Workbook

Sheet Officials
A2: Officials | G2: Panel 1 | U2: Panel 2 | AI2: Panel 3 | AV2: Panel 4
A3: Name | B3: Club | C3: Role | D3: AM | E3: PM | F3: Zone | G3: Ch | H3: Tf | I3: J1 | J3: J2 | K3: J3 | L3: J4 | M3: H1 | N3: H2 | O3: TOF | P3: WM | Q3: CM | R3: MR | S3: CR | U3: Ch | V3: Tf | W3: J1 | X3: J2 | Y3: J3 | Z3: J4 | AA3: H1 | AB3: H2 | AC3: TOF | AD3: WM | AE3: CM | AF3: MR | AG3: CR | AI3: Ch | AJ3: Tf | AK3: J1 | AL3: J2 | AM3: J3 | AN3: J4 | AO3: H1 | AP3: H2 | AQ3: WM | AR3: CM | AS3: MR | AT3: CR | AV3: Ch | AW3: Tf | AX3: J1 | AY3: J2 | AZ3: J3 | BA3: J4 | BB3: H1 | BC3: H2 | BD3: WM | BE3: CM | BF3: MR | BG3: CR
G4: =COUNTA(G5:G151) - 1 - COUNTIF(G5:G151,"R") -> 0 | H4: =COUNTA(H5:H151) - 1 - COUNTIF(H5:H151,"R") -> 0 | I4: =COUNTA(I5:I151) - 1 - COUNTIF(I5:I151,"R") -> 0 | J4: =COUNTA(J5:J151) - 1 - COUNTIF(J5:J151,"R") -> 0 | K4: =COUNTA(K5:K151) - 1 - COUNTIF(K5:K151,"R") -> 0 | L4: =COUNTA(L5:L151) - 1 - COUNTIF(L5:L151,"R") -> 0 | M4: =COUNTA(M5:M151) - 1 - COUNTIF(M5:M151,"R") -> 0 | N4: =COUNTA(N5:N151) - 1 - COUNTIF(N5:N151,"R") -> 0 | ... S4: =COUNTA(S5:S151) - 1 - COUNTIF(S5:S151,"R") -> 0 | U4: =COUNTA(U5:U151) - 1 - COUNTIF(U5:U151,"R") -> 0 | V4: =COUNTA(V5:V151) - 1 - COUNTIF(V5:V151,"R") -> 0 | W4: =COUNTA(W5:W151) - 1 - COUNTIF(W5:W151,"R") -> 0 | X4: =COUNTA(X5:X151) - 1 - COUNTIF(X5:X151,"R") -> 0 | Y4: =COUNTA(Y5:Y151) - 1 - COUNTIF(Y5:Y151,"R") -> 0 | Z4: =COUNTA(Z5:Z151) - 1 - COUNTIF(Z5:Z151,"R") -> 0 | AA4: =COUNTA(AA5:AA151) - 1 - COUNTIF(AA5:AA151,"R") -> 0 | AB4: =COUNTA(AB5:AB151) - 1 - COUNTIF(AB5:AB151,"R") -> 0 | ... AG4: =COUNTA(AG5:AG151) - 1 - COUNTIF(AG5:AG151,"R") -> 0 | AI4: =COUNTA(AI5:AI151) - 1 - COUNTIF(AI5:AI151,"R") -> 0 | AJ4: =COUNTA(AJ5:AJ151) - 1 - COUNTIF(AJ5:AJ151,"R") -> 0 | AK4: =COUNTA(AK5:AK151) - 1 - COUNTIF(AK5:AK151,"R") -> 0 | AL4: =COUNTA(AL5:AL151) - 1 - COUNTIF(AL5:AL151,"R") -> 0 | AM4: =COUNTA(AM5:AM151) - 1 - COUNTIF(AM5:AM151,"R") -> 0 | AN4: =COUNTA(AN5:AN151) - 1 - COUNTIF(AN5:AN151,"R") -> 0 | AO4: =COUNTA(AO5:AO151) - 1 - COUNTIF(AO5:AO151,"R") -> 0 | AP4: =COUNTA(AP5:AP151) - 1 - COUNTIF(AP5:AP151,"R") -> 0 | ... AT4: =COUNTA(AT5:AT151) - 1 - COUNTIF(AT5:AT151,"R") -> 0 | AV4: =COUNTA(AV5:AV151) - 1 - COUNTIF(AV5:AV151,"R") -> 0 | AW4: =COUNTA(AW5:AW151) - 1 - COUNTIF(AW5:AW151,"R") -> 0 | AX4: =COUNTA(AX5:AX151) - 1 - COUNTIF(AX5:AX151,"R") -> 0 | AY4: =COUNTA(AY5:AY151) - 1 - COUNTIF(AY5:AY151,"R") -> 0 | AZ4: =COUNTA(AZ5:AZ151) - 1 - COUNTIF(AZ5:AZ151,"R") -> 0 | BA4: =COUNTA(BA5:BA151) - 1 - COUNTIF(BA5:BA151,"R") -> 0 | BB4: =COUNTA(BB5:BB151) - 1 - COUNTIF(BB5:BB151,"R") -> 0 | BC4: =COUNTA(BC5:BC151) - 1 - COUNTIF(BC5:BC151,"R") -> 0 | ... BG4: =COUNTA(BG5:BG151) - 1 - COUNTIF(BG5:BG151,"R") -> 0
BI5: =COUNTA(G5:BG5) -> 0 | BK5: =IF(A5="","",A5) | BL5: =IF(B5="","",B5) | BM5: =IF(F5="","",F5)
BI6: =COUNTA(G6:BG6) -> 0 | BK6: =IF(A6="","",A6) | BL6: =IF(B6="","",B6) | BM6: =IF(F6="","",F6)
BI7: =COUNTA(G7:BG7) -> 0 | BK7: =IF(A7="","",A7) | BL7: =IF(B7="","",B7) | BM7: =IF(F7="","",F7)
BI8: =COUNTA(G8:BG8) -> 0 | BK8: =IF(A8="","",A8) | BL8: =IF(B8="","",B8) | BM8: =IF(F8="","",F8)
BI9: =COUNTA(G9:BG9) -> 0 | BK9: =IF(A9="","",A9) | BL9: =IF(B9="","",B9) | BM9: =IF(F9="","",F9)
BI10: =COUNTA(G10:BG10) -> 0 | BK10: =IF(A10="","",A10) | BL10: =IF(B10="","",B10) | BM10: =IF(F10="","",F10)
BI11: =COUNTA(G11:BG11) -> 0 | BK11: =IF(A11="","",A11) | BL11: =IF(B11="","",B11) | BM11: =IF(F11="","",F11)
BI12: =COUNTA(G12:BG12) -> 0 | BK12: =IF(A12="","",A12) | BL12: =IF(B12="","",B12) | BM12: =IF(F12="","",F12)
BI13: =COUNTA(G13:BG13) -> 0 | BK13: =IF(A13="","",A13) | BL13: =IF(B13="","",B13) | BM13: =IF(F13="","",F13)
BI14: =COUNTA(G14:BG14) -> 0 | BK14: =IF(A14="","",A14) | BL14: =IF(B14="","",B14) | BM14: =IF(F14="","",F14)
BI15: =COUNTA(G15:BG15) -> 0 | BK15: =IF(A15="","",A15) | BL15: =IF(B15="","",B15) | BM15: =IF(F15="","",F15)
BI16: =COUNTA(G16:BG16) -> 0 | BK16: =IF(A16="","",A16) | BL16: =IF(B16="","",B16) | BM16: =IF(F16="","",F16)
... BI70: =COUNTA(G70:BG70) -> 0 | BK70: =IF(A70="","",A70) | BL70: =IF(B70="","",B70) | BM70: =IF(F70="","",F70)
BI71: =COUNTA(G71:BG71) -> 0 | BK71: =IF(A71="","",A71) | BL71: =IF(B71="","",B71)
G72: Ch | H72: Tf | I72: J1 | J72: J2 | K72: J3 | L72: J4 | M72: H1 | N72: H2 | O72: TOF | P72: WM | Q72: CM | R72: MR | S72: CR | U72: Ch | V72: Tf | W72: J1 | X72: J2 | Y72: J3 | Z72: J4 | AA72: H1 | AB72: H2 | AC72: TOF | AD72: WM | AE72: CM | AF72: MR | AG72: CR | AI72: Ch | AJ72: Tf | AK72: J1 | AL72: J2 | AM72: J3 | AN72: J4 | AO72: H1 | AP72: H2 | AQ72: WM | AR72: CM | AS72: MR | AT72: CR | AV72: Ch | AW72: Tf | AX72: J1 | AY72: J2 | AZ72: J3 | BA72: J4 | BB72: H1 | BC72: H2 | BD72: WM | BE72: CM | BF72: MR | BG72: CR | BK72: =IF(A72="","",A72) | BL72: =IF(B72="","",B72)
BI73: =COUNTA(G73:BG73) -> 0 | BK73: =IF(A73="","",A73) | BL73: =IF(B73="","",B73) | BM73: =IF(F73="","",F73)
BI74: =COUNTA(G74:BG74) -> 0 | BK74: =IF(A74="","",A74) | BL74: =IF(B74="","",B74) | BM74: =IF(F74="","",F74)
BI75: =COUNTA(G75:BG75) -> 0 | BK75: =IF(A75="","",A75) | BL75: =IF(B75="","",B75) | BM75: =IF(F75="","",F75)
BI76: =COUNTA(G76:BG76) -> 0 | BK76: =IF(A76="","",A76) | BL76: =IF(B76="","",B76) | BM76: =IF(F76="","",F76)
BI77: =COUNTA(G77:BG77) -> 0 | BK77: =IF(A77="","",A77) | BL77: =IF(B77="","",B77) | BM77: =IF(F77="","",F77)
BI78: =COUNTA(G78:BG78) -> 0 | BK78: =IF(A78="","",A78) | BL78: =IF(B78="","",B78) | BM78: =IF(F78="","",F78)
BI79: =COUNTA(G79:BG79) -> 0 | BK79: =IF(A79="","",A79) | BL79: =IF(B79="","",B79) | BM79: =IF(F79="","",F79)
BI80: =COUNTA(G80:BG80) -> 0 | BK80: =IF(A80="","",A80) | BL80: =IF(B80="","",B80) | BM80: =IF(F80="","",F80)
BI81: =COUNTA(G81:BG81) -> 0 | BK81: =IF(A81="","",A81) | BL81: =IF(B81="","",B81) | BM81: =IF(F81="","",F81)
BI82: =COUNTA(G82:BG82) -> 0 | BK82: =IF(A82="","",A82) | BL82: =IF(B82="","",B82) | BM82: =IF(F82="","",F82)
BI83: =COUNTA(G83:BG83) -> 0 | BK83: =IF(A83="","",A83) | BL83: =IF(B83="","",B83) | BM83: =IF(F83="","",F83)
BI84: =COUNTA(G84:BG84) -> 0 | BK84: =IF(A84="","",A84) | BL84: =IF(B84="","",B84) | BM84: =IF(F84="","",F84)
... BI108: =COUNTA(G108:BG108) -> 0 | BK108: =IF(A108="","",A108) | BL108: =IF(B108="","",B108) | BM108: =IF(F108="","",F108)
BI109: =COUNTA(G109:BG109) -> 0 | BK109: =IF(A109="","",A109) | BL109: =IF(B109="","",B109)
BI110: =COUNTA(G110:BG110) -> 0 | BK110: =IF(A110="","",A110) | BL110: =IF(B110="","",B110)
BI111: =COUNTA(G111:BG111) -> 0 | BK111: =IF(A111="","",A111) | BL111: =IF(B111="","",B111)
BI112: =COUNTA(G112:BG112) -> 0 | BK112: =IF(A112="","",A112) | BL112: =IF(B112="","",B112)
BI113: =COUNTA(G113:BG113) -> 0 | BK113: =IF(A113="","",A113) | BL113: =IF(B113="","",B113)
BI114: =COUNTA(G114:BG114) -> 0 | BK114: =IF(A114="","",A114) | BL114: =IF(B114="","",B114)
BI115: =COUNTA(G115:BG115) -> 0 | BK115: =IF(A115="","",A115) | BL115: =IF(B115="","",B115)
BI116: =COUNTA(G116:BG116) -> 0 | BK116: =IF(A116="","",A116) | BL116: =IF(B116="","",B116)
BI117: =COUNTA(G117:BG117) -> 0 | BK117: =IF(A117="","",A117) | BL117: =IF(B117="","",B117)
...

Sheet Panels-H
B1: Role | C1: Name | D1: Club | E1: Role | F1: Name | G1: Club
B2: Officials
B3: Role | C3: Panel 1 - Trampoline | E3: Role | F3: Panel 2 - Trampoline
B4: Chair | C4: =VLOOKUP("X",Officials!$G$2:$BM$126,57, FALSE) -> #N/A | D4: =VLOOKUP("X",Officials!$G$2:$BM$126,58, FALSE) -> #N/A | E4: Chair | F4: =VLOOKUP("X",Officials!$U$2:$BM$126,43, FALSE) -> #N/A | G4: =VLOOKUP("X",Officials!$U$2:$BM$126,44, FALSE) -> #N/A
B5: Tariff | C5: =VLOOKUP("X",Officials!$H$2:$BM$126,56, FALSE) -> #N/A | D5: {=VLOOKUP("X",SUBSTITUTE(Officials!$H$2:$BM$126,"R","X"),57, FALSE)} -> #N/A | E5: Tariff | F5: =VLOOKUP("X",Officials!$V$2:$BM$126,42, FALSE) -> #N/A | G5: {=VLOOKUP("X",SUBSTITUTE(Officials!$V$2:$BM$126,"R","X"),43, FALSE)} -> #N/A
B6: Judge 1 | C6: =VLOOKUP("X",Officials!$I$2:$BM$126,55, FALSE) -> #N/A | D6: =VLOOKUP("X",Officials!$I$2:$BM$126,56, FALSE) -> #N/A | E6: Judge 1 | F6: =VLOOKUP("X",Officials!$W$2:$BM$126,41, FALSE) -> #N/A | G6: =VLOOKUP("X",Officials!$W$2:$BM$126,42, FALSE) -> #N/A
B7: Judge 2 | C7: =VLOOKUP("X",Officials!$J$2:$BM$126,54, FALSE) -> #N/A | D7: =VLOOKUP("X",Officials!$J$2:$BM$126,55, FALSE) -> #N/A | E7: Judge 2 | F7: =VLOOKUP("X",Officials!$X$2:$BM$126,40, FALSE) -> #N/A | G7: =VLOOKUP("X",Officials!$X$2:$BM$126,41, FALSE) -> #N/A
B8: Judge 3 | C8: =VLOOKUP("X",Officials!$K$2:$BM$126,53, FALSE) -> #N/A | D8: =VLOOKUP("X",Officials!$K$2:$BM$126,54, FALSE) -> #N/A | E8: Judge 3 | F8: =VLOOKUP("X",Officials!$Y$2:$BM$126,39, FALSE) -> #N/A | G8: =VLOOKUP("X",Officials!$Y$2:$BM$126,40, FALSE) -> #N/A
B9: Judge 4 | C9: =VLOOKUP("X",Officials!$L$2:$BM$126,52, FALSE) -> #N/A | D9: =VLOOKUP("X",Officials!$L$2:$BM$126,53, FALSE) -> #N/A | E9: Judge 4 | F9: =VLOOKUP("X",Officials!$Z$2:$BM$126,38, FALSE) -> #N/A | G9: =VLOOKUP("X",Officials!$Z$2:$BM$126,39, FALSE) -> #N/A
B10: HD1 | C10: =VLOOKUP("X",Officials!$M$2:$BM$126,51, FALSE) -> #N/A | D10: =VLOOKUP("X",Officials!$M$2:$BM$126,52, FALSE) -> #N/A | E10: HD1 | F10: =VLOOKUP("X",Officials!$AA$2:$BM$126,37, FALSE) -> #N/A | G10: =VLOOKUP("X",Officials!$AA$2:$BM$126,38, FALSE) -> #N/A
B11: HD2 | C11: =VLOOKUP("X",Officials!$N$2:$BM$126,50, FALSE) -> #N/A | D11: =VLOOKUP("X",Officials!$N$2:$BM$126,51, FALSE) -> #N/A | E11: HD2 | F11: =VLOOKUP("X",Officials!$AB$2:$BM$126,36, FALSE) -> #N/A | G11: =VLOOKUP("X",Officials!$AB$2:$BM$126,37, FALSE) -> #N/A
B12: Time of Flight | C12: =VLOOKUP("X",Officials!$O$2:$BM$126,49, FALSE) -> #N/A | D12: =VLOOKUP("X",Officials!$O$2:$BM$126,50, FALSE) -> #N/A | E12: Time of Flight | F12: =VLOOKUP("X",Officials!$AC$2:$BM$126,35, FALSE) -> #N/A | G12: =VLOOKUP("X",Officials!$AC$2:$BM$126,36, FALSE) -> #N/A
B13: Warmup Marshall | C13: =VLOOKUP("X",Officials!$P$2:$BM$126,48, FALSE) -> #N/A | D13: =VLOOKUP("X",Officials!$P$2:$BM$126,48, FALSE) -> #N/A | E13: Warmup Marshall | F13: =VLOOKUP("X",Officials!$AD$2:$BM$126,33, FALSE) -> #N/A | G13: =VLOOKUP("X",Officials!$AD$2:$BM$126,35, FALSE) -> #N/A
B14: Marshall | C14: =VLOOKUP("X",Officials!$Q$2:$BM$126,47, FALSE) -> #N/A | D14: =VLOOKUP("X",Officials!$Q$2:$BM$126,48, FALSE) -> #N/A | E14: Marshall | F14: =VLOOKUP("X",Officials!$AE$2:$BM$126,33, FALSE) -> #N/A | G14: =VLOOKUP("X",Officials!$AE$2:$BM$126,34, FALSE) -> #N/A
B15: Manual Recorder | C15: =VLOOKUP("X",Officials!$R$2:$BM$126,46, FALSE) -> #N/A | D15: =VLOOKUP("X",Officials!$R$2:$BM$126,47, FALSE) -> #N/A | E15: Manual Recorder | F15: =VLOOKUP("X",Officials!$AF$2:$BM$126,32, FALSE) -> #N/A | G15: =VLOOKUP("X",Officials!$AF$2:$BM$126,33, FALSE) -> #N/A
B16: Computer Recorder | C16: =VLOOKUP("X",Officials!$S$2:$BM$126,45, FALSE) -> #N/A | D16: =VLOOKUP("X",Officials!$S$2:$BM$126,46, FALSE) -> #N/A | E16: Computer Recorder | F16: =VLOOKUP("X",Officials!$AG$2:$BM$126,31, FALSE) -> #N/A | G16: =VLOOKUP("X",Officials!$AG$2:$BM$126,32, FALSE) -> #N/A
B19: Role | C19: Panel 3 - Trampoline | E19: Role | F19: Panel 4 - DMT
B20: Chair | C20: =VLOOKUP("X",Officials!$AI$2:$BM$126,29, FALSE) -> #N/A | D20: =VLOOKUP("X",Officials!$AI$2:$BM$126,30, FALSE) -> #N/A | E20: Chair | F20: =VLOOKUP("X",Officials!$AV$2:$BM$126,16, FALSE) -> #N/A | G20: =VLOOKUP("X",Officials!$AV$2:$BM$126,17, FALSE) -> #N/A
B21: Tariff | C21: =VLOOKUP("X",Officials!$AJ$2:$BM$126,28, FALSE) -> #N/A | D21: {=VLOOKUP("X",SUBSTITUTE(Officials!$AJ$2:$BM$126,"R","X"),29, FALSE)} -> #N/A | E21: Tariff | F21: =VLOOKUP("X",Officials!$AW$2:$BM$126,15, FALSE) -> #N/A | G21: {=VLOOKUP("X",SUBSTITUTE(Officials!$AW$2:$BM$126,"R","X"),16, FALSE)} -> #N/A
B22: Judge 1 | C22: =VLOOKUP("X",Officials!$AK$2:$BM$126,27, FALSE) -> #N/A | D22: =VLOOKUP("X",Officials!$AK$2:$BM$126,28, FALSE) -> #N/A | E22: Judge 1 | F22: =VLOOKUP("X",Officials!$AX$2:$BM$126,14, FALSE) -> #N/A | G22: =VLOOKUP("X",Officials!$AX$2:$BM$126,15, FALSE) -> #N/A
B23: Judge 2 | C23: =VLOOKUP("X",Officials!$AL$2:$BM$126,26, FALSE) -> #N/A | D23: =VLOOKUP("X",Officials!$AL$2:$BM$126,27, FALSE) -> #N/A | E23: Judge 2 | F23: =VLOOKUP("X",Officials!$AY$2:$BM$126,13, FALSE) -> #N/A | G23: =VLOOKUP("X",Officials!$AY$2:$BM$126,14, FALSE) -> #N/A
B24: Judge 3 | C24: =VLOOKUP("X",Officials!$AM$2:$BM$126,25, FALSE) -> #N/A | D24: =VLOOKUP("X",Officials!$AM$2:$BM$126,26, FALSE) -> #N/A | E24: Judge 3 | F24: =VLOOKUP("X",Officials!$AZ$2:$BM$126,12, FALSE) -> #N/A | G24: =VLOOKUP("X",Officials!$AZ$2:$BM$126,13, FALSE) -> #N/A
B25: Judge 4 | C25: =VLOOKUP("X",Officials!$AN$2:$BM$126,24, FALSE) -> #N/A | D25: =VLOOKUP("X",Officials!$AN$2:$BM$126,25, FALSE) -> #N/A | E25: Judge 4 | F25: =VLOOKUP("X",Officials!$BA$2:$BM$126,11, FALSE) -> #N/A | G25: =VLOOKUP("X",Officials!$BA$2:$BM$126,12, FALSE) -> #N/A
B26: HD1 | C26: =VLOOKUP("X",Officials!$AO$2:$BM$126,23, FALSE) -> #N/A | D26: =VLOOKUP("X",Officials!$AO$2:$BM$126,24, FALSE) -> #N/A | E26: HD1 | F26: =VLOOKUP("X",Officials!$BB$2:$BM$126,10, FALSE) -> #N/A | G26: =VLOOKUP("X",Officials!$BB$2:$BM$126,11, FALSE) -> #N/A
B27: HD2 | C27: =VLOOKUP("X",Officials!$AP$2:$BM$126,22, FALSE) -> #N/A | D27: =VLOOKUP("X",Officials!$AP$2:$BM$126,23, FALSE) -> #N/A | E27: HD2 | F27: =VLOOKUP("X",Officials!$BC$2:$BM$126,9, FALSE) -> #N/A | G27: {=VLOOKUP("X",SUBSTITUTE(Officials!$BC$2:$BM$126,"R","X"),10, FALSE)} -> #N/A
B28: Time of Flight | C28: =VLOOKUP("X",Officials!$AQ$2:$BM$126,21, FALSE) -> #N/A | D28: =VLOOKUP("X",Officials!$AQ$2:$BM$126,22, FALSE) -> #N/A | E28: Time of Flight | F28: =VLOOKUP("X",Officials!$BD$2:$BM$126,8, FALSE) -> #N/A | G28: {=VLOOKUP("X",SUBSTITUTE(Officials!$BD$2:$BM$126,"R","X"),9, FALSE)} -> #N/A
B29: Warmup Marshall | C29: =VLOOKUP("X",Officials!$AQ$2:$BM$126,21, FALSE) -> #N/A | D29: =VLOOKUP("X",Officials!$AQ$2:$BM$126,22, FALSE) -> #N/A | E29: Warmup Marshall | F29: =VLOOKUP("X",Officials!$BD$2:$BM$126,8, FALSE) -> #N/A | G29: =VLOOKUP("X",Officials!$BD$2:$BM$126,9, FALSE) -> #N/A
B30: Marshall | C30: =VLOOKUP("X",Officials!$AR$2:$BM$126,20, FALSE) -> #N/A | D30: =VLOOKUP("X",Officials!$AR$2:$BM$126,21, FALSE) -> #N/A | E30: Marshall | F30: =VLOOKUP("X",Officials!$BE$2:$BM$126,7, FALSE) -> #N/A | G30: =VLOOKUP("X",Officials!$BE$2:$BM$126,8, FALSE) -> #N/A
B31: Manual Recorder | C31: =VLOOKUP("X",Officials!$AS$2:$BM$126,19, FALSE) -> #N/A | D31: =VLOOKUP("X",Officials!$AS$2:$BM$126,20, FALSE) -> #N/A | E31: Manual Recorder | F31: =VLOOKUP("X",Officials!$BF$2:$BM$126,6, FALSE) -> #N/A | G31: =VLOOKUP("X",Officials!$BF$2:$BM$126,7, FALSE) -> #N/A
B32: Computer Recorder | C32: =VLOOKUP("X",Officials!$AT$2:$BM$126,18, FALSE) -> #N/A | D32: =VLOOKUP("X",Officials!$AT$2:$BM$126,19, FALSE) -> #N/A | E32: Computer Recorder | F32: =VLOOKUP("X",Officials!$BG$2:$BM$126,5, FALSE) -> #N/A | G32: =VLOOKUP("X",Officials!$BG$2:$BM$126,6, FALSE) -> #N/A
B35: Reserves

Sheet Panels-V
B3: Officials
B4: Role | C4: Panel 1 - Trampoline
B5: Chair | C5: =VLOOKUP("X",Officials!$G$2:$BM$126,57, FALSE) -> #N/A | D5: =VLOOKUP("X",Officials!$G$2:$BM$126,58, FALSE) -> #N/A
B6: Tariff | C6: =VLOOKUP("X",Officials!$H$2:$BM$126,56, FALSE) -> #N/A | D6: =VLOOKUP("X",Officials!$H$2:$BM$126,57, FALSE) -> #N/A
B7: Judge 1 | C7: =VLOOKUP("X",Officials!$I$2:$BM$126,55, FALSE) -> #N/A | D7: =VLOOKUP("X",Officials!$I$2:$BM$126,56, FALSE) -> #N/A
B8: Judge 2 | C8: =VLOOKUP("X",Officials!$J$2:$BM$126,54, FALSE) -> #N/A | D8: =VLOOKUP("X",Officials!$J$2:$BM$126,55, FALSE) -> #N/A
B9: Judge 3 | C9: =VLOOKUP("X",Officials!$K$2:$BM$126,53, FALSE) -> #N/A | D9: =VLOOKUP("X",Officials!$K$2:$BM$126,54, FALSE) -> #N/A
B10: Judge 4 | C10: =VLOOKUP("X",Officials!$L$2:$BM$126,52, FALSE) -> #N/A | D10: =VLOOKUP("X",Officials!$L$2:$BM$126,53, FALSE) -> #N/A
B11: HD1 | C11: =VLOOKUP("X",Officials!$M$2:$BM$126,51, FALSE) -> #N/A | D11: =VLOOKUP("X",Officials!$M$2:$BM$126,52, FALSE) -> #N/A
B12: HD2 | C12: =VLOOKUP("X",Officials!$N$2:$BM$126,50, FALSE) -> #N/A | D12: =VLOOKUP("X",Officials!$N$2:$BM$126,51, FALSE) -> #N/A
B13: Time of Flight | C13: =VLOOKUP("X",Officials!$O$2:$BM$126,49, FALSE) -> #N/A | D13: =VLOOKUP("X",Officials!$O$2:$BM$126,50, FALSE) -> #N/A
B14: Warmup Marshall | C14: =VLOOKUP("X",Officials!$P$2:$BM$126,48, FALSE) -> #N/A | D14: =VLOOKUP("X",Officials!$P$2:$BM$126,48, FALSE) -> #N/A
B15: Marshall | C15: =VLOOKUP("X",Officials!$Q$2:$BM$126,47, FALSE) -> #N/A | D15: =VLOOKUP("X",Officials!$Q$2:$BM$126,48, FALSE) -> #N/A
B16: Manual Recorder | C16: =VLOOKUP("X",Officials!$R$2:$BM$126,46, FALSE) -> #N/A | D16: =VLOOKUP("X",Officials!$R$2:$BM$126,47, FALSE) -> #N/A
B17: Computer Recorder | C17: =VLOOKUP("X",Officials!$S$2:$BM$126,45, FALSE) -> #N/A | D17: =VLOOKUP("X",Officials!$S$2:$BM$126,46, FALSE) -> #N/A
B20: Role | C20: Panel 2 - Trampoline
B21: Chair | C21: =VLOOKUP("X",Officials!$U$2:$BM$126,43, FALSE) -> #N/A | D21: =VLOOKUP("X",Officials!$U$2:$BM$126,44, FALSE) -> #N/A
B22: Tariff | C22: =VLOOKUP("X",Officials!$V$2:$BM$126,42, FALSE) -> #N/A | D22: {=VLOOKUP("X",SUBSTITUTE(Officials!$V$2:$BM$126,"R","R"),43, FALSE)} -> #N/A
B23: Judge 1 | C23: =VLOOKUP("X",Officials!$W$2:$BM$126,41, FALSE) -> #N/A | D23: =VLOOKUP("X",Officials!$W$2:$BM$126,42, FALSE) -> #N/A
B24: Judge 2 | C24: =VLOOKUP("X",Officials!$X$2:$BM$126,40, FALSE) -> #N/A | D24: =VLOOKUP("X",Officials!$X$2:$BM$126,41, FALSE) -> #N/A
B25: Judge 3 | C25: =VLOOKUP("X",Officials!$Y$2:$BM$126,39, FALSE) -> #N/A | D25: =VLOOKUP("X",Officials!$Y$2:$BM$126,40, FALSE) -> #N/A
B26: Judge 4 | C26: =VLOOKUP("X",Officials!$Z$2:$BM$126,38, FALSE) -> #N/A | D26: =VLOOKUP("X",Officials!$Z$2:$BM$126,39, FALSE) -> #N/A
B27: HD1 | C27: =VLOOKUP("X",Officials!$AA$2:$BM$126,37, FALSE) -> #N/A | D27: =VLOOKUP("X",Officials!$AA$2:$BM$126,38, FALSE) -> #N/A
B28: HD2 | C28: =VLOOKUP("X",Officials!$AB$2:$BM$126,36, FALSE) -> #N/A | D28: =VLOOKUP("X",Officials!$AB$2:$BM$126,37, FALSE) -> #N/A
B29: Time of Flight | C29: =VLOOKUP("X",Officials!$AC$2:$BM$126,35, FALSE) -> #N/A | D29: =VLOOKUP("X",Officials!$AC$2:$BM$126,36, FALSE) -> #N/A
B30: Warmup Marshall | C30: =VLOOKUP("X",Officials!$AD$2:$BM$126,33, FALSE) -> #N/A | D30: =VLOOKUP("X",Officials!$AD$2:$BM$126,35, FALSE) -> #N/A
B31: Marshall | C31: =VLOOKUP("X",Officials!$AE$2:$BM$126,33, FALSE) -> #N/A | D31: =VLOOKUP("X",Officials!$AE$2:$BM$126,34, FALSE) -> #N/A
B32: Manual Recorder | C32: =VLOOKUP("X",Officials!$AF$2:$BM$126,32, FALSE) -> #N/A | D32: =VLOOKUP("X",Officials!$AF$2:$BM$126,33, FALSE) -> #N/A
B33: Computer Recorder | C33: =VLOOKUP("X",Officials!$AG$2:$BM$126,31, FALSE) -> #N/A | D33: =VLOOKUP("X",Officials!$AG$2:$BM$126,32, FALSE) -> #N/A
B36: Role | C36: Panel 3 - Trampoline
B37: Chair | C37: =VLOOKUP("X",Officials!$AI$2:$BM$126,29, FALSE) -> #N/A | D37: =VLOOKUP("X",Officials!$AI$2:$BM$126,30, FALSE) -> #N/A
B38: Tariff | C38: =VLOOKUP("X",Officials!$AJ$2:$BM$126,28, FALSE) -> #N/A | D38: {=VLOOKUP("X",SUBSTITUTE(Officials!$AJ$2:$BM$126,"R","R"),29, FALSE)} -> #N/A
B39: Judge 1 | C39: =VLOOKUP("X",Officials!$AK$2:$BM$126,27, FALSE) -> #N/A | D39: =VLOOKUP("X",Officials!$AK$2:$BM$126,28, FALSE) -> #N/A
B40: Judge 2 | C40: =VLOOKUP("X",Officials!$AL$2:$BM$126,26, FALSE) -> #N/A | D40: =VLOOKUP("X",Officials!$AL$2:$BM$126,27, FALSE) -> #N/A
B41: Judge 3 | C41: =VLOOKUP("X",Officials!$AM$2:$BM$126,25, FALSE) -> #N/A | D41: =VLOOKUP("X",Officials!$AM$2:$BM$126,26, FALSE) -> #N/A
B42: Judge 4 | C42: =VLOOKUP("X",Officials!$AN$2:$BM$126,24, FALSE) -> #N/A | D42: =VLOOKUP("X",Officials!$AN$2:$BM$126,25, FALSE) -> #N/A
B43: HD1 | C43: =VLOOKUP("X",Officials!$AO$2:$BM$126,23, FALSE) -> #N/A | D43: =VLOOKUP("X",Officials!$AO$2:$BM$126,24, FALSE) -> #N/A
B44: HD2 | C44: =VLOOKUP("X",Officials!$AP$2:$BM$126,22, FALSE) -> #N/A | D44: =VLOOKUP("X",Officials!$AP$2:$BM$126,23, FALSE) -> #N/A
B45: Time of Flight | C45: =VLOOKUP("X",Officials!$AQ$2:$BM$126,21, FALSE) -> #N/A | D45: =VLOOKUP("X",Officials!$AQ$2:$BM$126,22, FALSE) -> #N/A
B46: Warmup Marshall | C46: =VLOOKUP("X",Officials!$AQ$2:$BM$126,21, FALSE) -> #N/A | D46: =VLOOKUP("X",Officials!$AQ$2:$BM$126,22, FALSE) -> #N/A
...
