Workbook
Name Ages: Lists!$T$2:$T$80
Name Clubnames: Teams!$A$2:$A$65
Name Gender: Lists!$W$14:$W$15
Name GenderSYN: ListsSYN!$S$14:$S$16
Name Grade: Lists!$A$1:$S$1
Name GradeAges: Lists!$A$1:$S$70
Name GradeAgesDMT: ListsDMT!$A$1:$S$70
Name GradeAgesSyn: ListsSYN!$A$1:$O$70
Name GradeAgesTUM: ListsTUM!$A$1:$S$70
Name GradesSyn: ListsSYN!$I$1:$O$1
Name Half: Lists!$W$25:$W$26
Name Jobs: Lists!$X$5:$X$16
Name Judges: Lists!$X$20:$X$27
Name Teams: Lists!$W$5:$W$12
Name When: Lists!$W$20:$W$22

Sheet Entries
A1: 60 | B1: Help! | C1: multiregion | D1: Regional | L1: rev 26.1 Nov 2025
A2: USAG Trampoline and Tumbling
A3: =IF(C5="",0,1+MATCH(C5,Teams!A2:A65,0)) -> 0 | B3: USATT | C3: Competition Entry Form | M3: 2026
A4: Event | E4: Venue
A5: Team | E5: Date
A6: Contact | E6: USAG Team # | G6: =IF(OR(A3="#N/A", A3=0),"",INDIRECT("Teams!"&"E"&TEXT(A3,"0")))
A7: Address | E7: Telephone No. | G7: =IF(OR(A3="#N/A", A3=0),"",INDIRECT("Teams!"&"F"&TEXT(A3,"0")))
E8: E-Mail Address | G8: =IF(OR(A3="#N/A", A3=0),"",INDIRECT("Teams!"&"G"&TEXT(A3,"0")))
A9: Zip Code | E9: State | G9: =IF(OR(A3="#N/A", A3=0),"",INDIRECT("Teams!"&"H"&TEXT(A3,"0")))
G10: TRAMPOLINE | I10: DMT | K10: TUMBLING
A11: # | B11: USAG # | C11: First Name | D11: Last Name | E11: Birth Year | F11: M/F | G11: Level | H11: Age | I11: Level | J11: Age | K11: Level | L11: Age | M11: Payment | R11: Notes
A12: 1 | H12: =IF(INDIRECT("E"&ROW())="","",IF(INDIRECT("G"&ROW())="",INDIRECT("Lists!O"&($M$3-(INDIRECT("E"&ROW())))),HLOOKUP(INDIRECT("G"&ROW()),GradeAges,($M$3-(INDIRECT("E"&ROW()))),FALSE))) | J12: =IF(INDIRECT("E"&ROW())="","",IF(INDIRECT("I"&ROW())="",INDIRECT("ListsDMT!O"&($M$3-(INDIRECT("E"&ROW())))),HLOOKUP(INDIRECT("I"&ROW()),GradeAgesDMT,($M$3-(INDIRECT("E"&ROW()))),FALSE))) | L12: =IF(INDIRECT("E"&ROW())="","",IF(INDIRECT("K"&ROW())="",INDIRECT("ListsTUM!O"&($M$3-(INDIRECT("E"&ROW())))),HLOOKUP(INDIRECT("K"&ROW()),GradeAgesTUM,($M$3-(INDIRECT("E"&ROW()))),FALSE)))
A13: 2 | H13: =IF(INDIRECT("E"&ROW())="","",IF(INDIRECT("G"&ROW())="",INDIRECT("Lists!O"&($M$3-(INDIRECT("E"&ROW())))),HLOOKUP(INDIRECT("G"&ROW()),GradeAges,($M$3-(INDIRECT("E"&ROW()))),FALSE))) | J13: =IF(INDIRECT("E"&ROW())="","",IF(INDIRECT("I"&ROW())="",INDIRECT("ListsDMT!O"&($M$3-(INDIRECT("E"&ROW())))),HLOOKUP(INDIRECT("I"&ROW()),GradeAgesDMT,($M$3-(INDIRECT("E"&ROW()))),FALSE))) | L13: =IF(INDIRECT("E"&ROW())="","",IF(INDIRECT("K"&ROW())="",INDIRECT("ListsTUM!O"&($M$3-(INDIRECT("E"&ROW())))),HLOOKUP(INDIRECT("K"&ROW()),GradeAgesTUM,($M$3-(INDIRECT("E"&ROW()))),FALSE)))
A14: 3 | H14: =IF(INDIRECT("E"&ROW())="","",IF(INDIRECT("G"&ROW())="",INDIRECT("Lists!O"&($M$3-(INDIRECT("E"&ROW())))),HLOOKUP(INDIRECT("G"&ROW()),GradeAges,($M$3-(INDIRECT("E"&ROW()))),FALSE))) | J14: =IF(INDIRECT("E"&ROW())="","",IF(INDIRECT("I"&ROW())="",INDIRECT("ListsDMT!O"&($M$3-(INDIRECT("E"&ROW())))),HLOOKUP(INDIRECT("I"&ROW()),GradeAgesDMT,($M$3-(INDIRECT("E"&ROW()))),FALSE))) | L14: =IF(INDIRECT("E"&ROW())="","",IF(INDIRECT("K"&ROW())="",INDIRECT("ListsTUM!O"&($M$3-(INDIRECT("E"&ROW())))),HLOOKUP(INDIRECT("K"&ROW()),GradeAgesTUM,($M$3-(INDIRECT("E"&ROW()))),FALSE)))
A15: 4 | H15: =IF(INDIRECT("E"&ROW())="","",IF(INDIRECT("G"&ROW())="",INDIRECT("Lists!O"&($M$3-(INDIRECT("E"&ROW())))),HLOOKUP(INDIRECT("G"&ROW()),GradeAges,($M$3-(INDIRECT("E"&ROW()))),FALSE))) | J15: =IF(INDIRECT("E"&ROW())="","",IF(INDIRECT("I"&ROW())="",INDIRECT("ListsDMT!O"&($M$3-(INDIRECT("E"&ROW())))),HLOOKUP(INDIRECT("I"&ROW()),GradeAgesDMT,($M$3-(INDIRECT("E"&ROW()))),FALSE))) | L15: =IF(INDIRECT("E"&ROW())="","",IF(INDIRECT("K"&ROW())="",INDIRECT("ListsTUM!O"&($M$3-(INDIRECT("E"&ROW())))),HLOOKUP(INDIRECT("K"&ROW()),GradeAgesTUM,($M$3-(INDIRECT("E"&ROW()))),FALSE)))
A16: 5 | H16: =IF(INDIRECT("E"&ROW())="","",IF(INDIRECT("G"&ROW())="",INDIRECT("Lists!O"&($M$3-(INDIRECT("E"&ROW())))),HLOOKUP(INDIRECT("G"&ROW()),GradeAges,($M$3-(INDIRECT("E"&ROW()))),FALSE))) | J16: =IF(INDIRECT("E"&ROW())="","",IF(INDIRECT("I"&ROW())="",INDIRECT("ListsDMT!O"&($M$3-(INDIRECT("E"&ROW())))),HLOOKUP(INDIRECT("I"&ROW()),GradeAgesDMT,($M$3-(INDIRECT("E"&ROW()))),FALSE))) | L16: =IF(INDIRECT("E"&ROW())="","",IF(INDIRECT("K"&ROW())="",INDIRECT("ListsTUM!O"&($M$3-(INDIRECT("E"&ROW())))),HLOOKUP(INDIRECT("K"&ROW()),GradeAgesTUM,($M$3-(INDIRECT("E"&ROW()))),FALSE)))
A17: 6 | H17: =IF(INDIRECT("E"&ROW())="","",IF(INDIRECT("G"&ROW())="",INDIRECT("Lists!O"&($M$3-(INDIRECT("E"&ROW())))),HLOOKUP(INDIRECT("G"&ROW()),GradeAges,($M$3-(INDIRECT("E"&ROW()))),FALSE))) | J17: =IF(INDIRECT("E"&ROW())="","",IF(INDIRECT("I"&ROW())="",INDIRECT("ListsDMT!O"&($M$3-(INDIRECT("E"&ROW())))),HLOOKUP(INDIRECT("I"&ROW()),GradeAgesDMT,($M$3-(INDIRECT("E"&ROW()))),FALSE))) | L17: =IF(INDIRECT("E"&ROW())="","",IF(INDIRECT("K"&ROW())="",INDIRECT("ListsTUM!O"&($M$3-(INDIRECT("E"&ROW())))),HLOOKUP(INDIRECT("K"&ROW()),GradeAgesTUM,($M$3-(INDIRECT("E"&ROW()))),FALSE)))
A18: 7 | H18: =IF(INDIRECT("E"&ROW())="","",IF(INDIRECT("G"&ROW())="",INDIRECT("Lists!O"&($M$3-(INDIRECT("E"&ROW())))),HLOOKUP(INDIRECT("G"&ROW()),GradeAges,($M$3-(INDIRECT("E"&ROW()))),FALSE))) | J18: =IF(INDIRECT("E"&ROW())="","",IF(INDIRECT("I"&ROW())="",INDIRECT("ListsDMT!O"&($M$3-(INDIRECT("E"&ROW())))),HLOOKUP(INDIRECT("I"&ROW()),GradeAgesDMT,($M$3-(INDIRECT("E"&ROW()))),FALSE))) | L18: =IF(INDIRECT("E"&ROW())="","",IF(INDIRECT("K"&ROW())="",INDIRECT("ListsTUM!O"&($M$3-(INDIRECT("E"&ROW())))),HLOOKUP(INDIRECT("K"&ROW()),GradeAgesTUM,($M$3-(INDIRECT("E"&ROW()))),FALSE)))
A19: 8 | H19: =IF(INDIRECT("E"&ROW())="","",IF(INDIRECT("G"&ROW())="",INDIRECT("Lists!O"&($M$3-(INDIRECT("E"&ROW())))),HLOOKUP(INDIRECT("G"&ROW()),GradeAges,($M$3-(INDIRECT("E"&ROW()))),FALSE))) | J19: =IF(INDIRECT("E"&ROW())="","",IF(INDIRECT("I"&ROW())="",INDIRECT("ListsDMT!O"&($M$3-(INDIRECT("E"&ROW())))),HLOOKUP(INDIRECT("I"&ROW()),GradeAgesDMT,($M$3-(INDIRECT("E"&ROW()))),FALSE))) | L19: =IF(INDIRECT("E"&ROW())="","",IF(INDIRECT("K"&ROW())="",INDIRECT("ListsTUM!O"&($M$3-(INDIRECT("E"&ROW())))),HLOOKUP(INDIRECT("K"&ROW()),GradeAgesTUM,($M$3-(INDIRECT("E"&ROW()))),FALSE)))
A20: 9 | H20: =IF(INDIRECT("E"&ROW())="","",IF(INDIRECT("G"&ROW())="",INDIRECT("Lists!O"&($M$3-(INDIRECT("E"&ROW())))),HLOOKUP(INDIRECT("G"&ROW()),GradeAges,($M$3-(INDIRECT("E"&ROW()))),FALSE))) | J20: =IF(INDIRECT("E"&ROW())="","",IF(INDIRECT("I"&ROW())="",INDIRECT("ListsDMT!O"&($M$3-(INDIRECT("E"&ROW())))),HLOOKUP(INDIRECT("I"&ROW()),GradeAgesDMT,($M$3-(INDIRECT("E"&ROW()))),FALSE))) | L20: =IF(INDIRECT("E"&ROW())="","",IF(INDIRECT("K"&ROW())="",INDIRECT("ListsTUM!O"&($M$3-(INDIRECT("E"&ROW())))),HLOOKUP(INDIRECT("K"&ROW()),GradeAgesTUM,($M$3-(INDIRECT("E"&ROW()))),FALSE)))
A21: 10 | H21: =IF(INDIRECT("E"&ROW())="","",IF(INDIRECT("G"&ROW())="",INDIRECT("Lists!O"&($M$3-(INDIRECT("E"&ROW())))),HLOOKUP(INDIRECT("G"&ROW()),GradeAges,($M$3-(INDIRECT("E"&ROW()))),FALSE))) | J21: =IF(INDIRECT("E"&ROW())="","",IF(INDIRECT("I"&ROW())="",INDIRECT("ListsDMT!O"&($M$3-(INDIRECT("E"&ROW())))),HLOOKUP(INDIRECT("I"&ROW()),GradeAgesDMT,($M$3-(INDIRECT("E"&ROW()))),FALSE))) | L21: =IF(INDIRECT("E"&ROW())="","",IF(INDIRECT("K"&ROW())="",INDIRECT("ListsTUM!O"&($M$3-(INDIRECT("E"&ROW())))),HLOOKUP(INDIRECT("K"&ROW()),GradeAgesTUM,($M$3-(INDIRECT("E"&ROW()))),FALSE)))
A22: 11 | H22: =IF(INDIRECT("E"&ROW())="","",IF(INDIRECT("G"&ROW())="",INDIRECT("Lists!O"&($M$3-(INDIRECT("E"&ROW())))),HLOOKUP(INDIRECT("G"&ROW()),GradeAges,($M$3-(INDIRECT("E"&ROW()))),FALSE))) | J22: =IF(INDIRECT("E"&ROW())="","",IF(INDIRECT("I"&ROW())="",INDIRECT("ListsDMT!O"&($M$3-(INDIRECT("E"&ROW())))),HLOOKUP(INDIRECT("I"&ROW()),GradeAgesDMT,($M$3-(INDIRECT("E"&ROW()))),FALSE))) | L22: =IF(INDIRECT("E"&ROW())="","",IF(INDIRECT("K"&ROW())="",INDIRECT("ListsTUM!O"&($M$3-(INDIRECT("E"&ROW())))),HLOOKUP(INDIRECT("K"&ROW()),GradeAgesTUM,($M$3-(INDIRECT("E"&ROW()))),FALSE)))
A23: 12 | H23: =IF(INDIRECT("E"&ROW())="","",IF(INDIRECT("G"&ROW())="",INDIRECT("Lists!O"&($M$3-(INDIRECT("E"&ROW())))),HLOOKUP(INDIRECT("G"&ROW()),GradeAges,($M$3-(INDIRECT("E"&ROW()))),FALSE))) | J23: =IF(INDIRECT("E"&ROW())="","",IF(INDIRECT("I"&ROW())="",INDIRECT("ListsDMT!O"&($M$3-(INDIRECT("E"&ROW())))),HLOOKUP(INDIRECT("I"&ROW()),GradeAgesDMT,($M$3-(INDIRECT("E"&ROW()))),FALSE))) | L23: =IF(INDIRECT("E"&ROW())="","",IF(INDIRECT("K"&ROW())="",INDIRECT("ListsTUM!O"&($M$3-(INDIRECT("E"&ROW())))),HLOOKUP(INDIRECT("K"&ROW()),GradeAgesTUM,($M$3-(INDIRECT("E"&ROW()))),FALSE)))
... A51: 40 | H51: =IF(INDIRECT("E"&ROW())="","",IF(INDIRECT("G"&ROW())="",INDIRECT("Lists!O"&($M$3-(INDIRECT("E"&ROW())))),HLOOKUP(INDIRECT("G"&ROW()),GradeAges,($M$3-(INDIRECT("E"&ROW()))),FALSE))) | J51: =IF(INDIRECT("E"&ROW())="","",IF(INDIRECT("I"&ROW())="",INDIRECT("ListsDMT!O"&($M$3-(INDIRECT("E"&ROW())))),HLOOKUP(INDIRECT("I"&ROW()),GradeAgesDMT,($M$3-(INDIRECT("E"&ROW()))),FALSE))) | L51: =IF(INDIRECT("E"&ROW())="","",IF(INDIRECT("K"&ROW())="",INDIRECT("ListsTUM!O"&($M$3-(INDIRECT("E"&ROW())))),HLOOKUP(INDIRECT("K"&ROW()),GradeAgesTUM,($M$3-(INDIRECT("E"&ROW()))),FALSE)))
A52: =A51+1 -> 41 | H52: =IF(INDIRECT("E"&ROW())="","",IF(INDIRECT("G"&ROW())="",INDIRECT("Lists!O"&($M$3-(INDIRECT("E"&ROW())))),HLOOKUP(INDIRECT("G"&ROW()),GradeAges,($M$3-(INDIRECT("E"&ROW()))),FALSE))) | J52: =IF(INDIRECT("E"&ROW())="","",IF(INDIRECT("I"&ROW())="",INDIRECT("ListsDMT!O"&($M$3-(INDIRECT("E"&ROW())))),HLOOKUP(INDIRECT("I"&ROW()),GradeAgesDMT,($M$3-(INDIRECT("E"&ROW()))),FALSE))) | L52: =IF(INDIRECT("E"&ROW())="","",IF(INDIRECT("K"&ROW())="",INDIRECT("ListsTUM!O"&($M$3-(INDIRECT("E"&ROW())))),HLOOKUP(INDIRECT("K"&ROW()),GradeAgesTUM,($M$3-(INDIRECT("E"&ROW()))),FALSE)))
A53: =A52+1 -> 42 | H53: =IF(INDIRECT("E"&ROW())="","",IF(INDIRECT("G"&ROW())="",INDIRECT("Lists!O"&($M$3-(INDIRECT("E"&ROW())))),HLOOKUP(INDIRECT("G"&ROW()),GradeAges,($M$3-(INDIRECT("E"&ROW()))),FALSE))) | J53: =IF(INDIRECT("E"&ROW())="","",IF(INDIRECT("I"&ROW())="",INDIRECT("ListsDMT!O"&($M$3-(INDIRECT("E"&ROW())))),HLOOKUP(INDIRECT("I"&ROW()),GradeAgesDMT,($M$3-(INDIRECT("E"&ROW()))),FALSE))) | L53: =IF(INDIRECT("E"&ROW())="","",IF(INDIRECT("K"&ROW())="",INDIRECT("ListsTUM!O"&($M$3-(INDIRECT("E"&ROW())))),HLOOKUP(INDIRECT("K"&ROW()),GradeAgesTUM,($M$3-(INDIRECT("E"&ROW()))),FALSE)))
A54: =A53+1 -> 43 | H54: =IF(INDIRECT("E"&ROW())="","",IF(INDIRECT("G"&ROW())="",INDIRECT("Lists!O"&($M$3-(INDIRECT("E"&ROW())))),HLOOKUP(INDIRECT("G"&ROW()),GradeAges,($M$3-(INDIRECT("E"&ROW()))),FALSE))) | J54: =IF(INDIRECT("E"&ROW())="","",IF(INDIRECT("I"&ROW())="",INDIRECT("ListsDMT!O"&($M$3-(INDIRECT("E"&ROW())))),HLOOKUP(INDIRECT("I"&ROW()),GradeAgesDMT,($M$3-(INDIRECT("E"&ROW()))),FALSE))) | L54: =IF(INDIRECT("E"&ROW())="","",IF(INDIRECT("K"&ROW())="",INDIRECT("ListsTUM!O"&($M$3-(INDIRECT("E"&ROW())))),HLOOKUP(INDIRECT("K"&ROW()),GradeAgesTUM,($M$3-(INDIRECT("E"&ROW()))),FALSE)))
A55: =A54+1 -> 44 | H55: =IF(INDIRECT("E"&ROW())="","",IF(INDIRECT("G"&ROW())="",INDIRECT("Lists!O"&($M$3-(INDIRECT("E"&ROW())))),HLOOKUP(INDIRECT("G"&ROW()),GradeAges,($M$3-(INDIRECT("E"&ROW()))),FALSE))) | J55: =IF(INDIRECT("E"&ROW())="","",IF(INDIRECT("I"&ROW())="",INDIRECT("ListsDMT!O"&($M$3-(INDIRECT("E"&ROW())))),HLOOKUP(INDIRECT("I"&ROW()),GradeAgesDMT,($M$3-(INDIRECT("E"&ROW()))),FALSE))) | L55: =IF(INDIRECT("E"&ROW())="","",IF(INDIRECT("K"&ROW())="",INDIRECT("ListsTUM!O"&($M$3-(INDIRECT("E"&ROW())))),HLOOKUP(INDIRECT("K"&ROW()),GradeAgesTUM,($M$3-(INDIRECT("E"&ROW()))),FALSE)))
A56: =A55+1 -> 45 | H56: =IF(INDIRECT("E"&ROW())="","",IF(INDIRECT("G"&ROW())="",INDIRECT("Lists!O"&($M$3-(INDIRECT("E"&ROW())))),HLOOKUP(INDIRECT("G"&ROW()),GradeAges,($M$3-(INDIRECT("E"&ROW()))),FALSE))) | J56: =IF(INDIRECT("E"&ROW())="","",IF(INDIRECT("I"&ROW())="",INDIRECT("ListsDMT!O"&($M$3-(INDIRECT("E"&ROW())))),HLOOKUP(INDIRECT("I"&ROW()),GradeAgesDMT,($M$3-(INDIRECT("E"&ROW()))),FALSE))) | L56: =IF(INDIRECT("E"&ROW())="","",IF(INDIRECT("K"&ROW())="",INDIRECT("ListsTUM!O"&($M$3-(INDIRECT("E"&ROW())))),HLOOKUP(INDIRECT("K"&ROW()),GradeAgesTUM,($M$3-(INDIRECT("E"&ROW()))),FALSE)))
A57: =A56+1 -> 46 | H57: =IF(INDIRECT("E"&ROW())="","",IF(INDIRECT("G"&ROW())="",INDIRECT("Lists!O"&($M$3-(INDIRECT("E"&ROW())))),HLOOKUP(INDIRECT("G"&ROW()),GradeAges,($M$3-(INDIRECT("E"&ROW()))),FALSE))) | J57: =IF(INDIRECT("E"&ROW())="","",IF(INDIRECT("I"&ROW())="",INDIRECT("ListsDMT!O"&($M$3-(INDIRECT("E"&ROW())))),HLOOKUP(INDIRECT("I"&ROW()),GradeAgesDMT,($M$3-(INDIRECT("E"&ROW()))),FALSE))) | L57: =IF(INDIRECT("E"&ROW())="","",IF(INDIRECT("K"&ROW())="",INDIRECT("ListsTUM!O"&($M$3-(INDIRECT("E"&ROW())))),HLOOKUP(INDIRECT("K"&ROW()),GradeAgesTUM,($M$3-(INDIRECT("E"&ROW()))),FALSE)))
A58: =A57+1 -> 47 | H58: =IF(INDIRECT("E"&ROW())="","",IF(INDIRECT("G"&ROW())="",INDIRECT("Lists!O"&($M$3-(INDIRECT("E"&ROW())))),HLOOKUP(INDIRECT("G"&ROW()),GradeAges,($M$3-(INDIRECT("E"&ROW()))),FALSE))) | J58: =IF(INDIRECT("E"&ROW())="","",IF(INDIRECT("I"&ROW())="",INDIRECT("ListsDMT!O"&($M$3-(INDIRECT("E"&ROW())))),HLOOKUP(INDIRECT("I"&ROW()),GradeAgesDMT,($M$3-(INDIRECT("E"&ROW()))),FALSE))) | L58: =IF(INDIRECT("E"&ROW())="","",IF(INDIRECT("K"&ROW())="",INDIRECT("ListsTUM!O"&($M$3-(INDIRECT("E"&ROW())))),HLOOKUP(INDIRECT("K"&ROW()),GradeAgesTUM,($M$3-(INDIRECT("E"&ROW()))),FALSE)))
A59: =A58+1 -> 48 | H59: =IF(INDIRECT("E"&ROW())="","",IF(INDIRECT("G"&ROW())="",INDIRECT("Lists!O"&($M$3-(INDIRECT("E"&ROW())))),HLOOKUP(INDIRECT("G"&ROW()),GradeAges,($M$3-(INDIRECT("E"&ROW()))),FALSE))) | J59: =IF(INDIRECT("E"&ROW())="","",IF(INDIRECT("I"&ROW())="",INDIRECT("ListsDMT!O"&($M$3-(INDIRECT("E"&ROW())))),HLOOKUP(INDIRECT("I"&ROW()),GradeAgesDMT,($M$3-(INDIRECT("E"&ROW()))),FALSE))) | L59: =IF(INDIRECT("E"&ROW())="","",IF(INDIRECT("K"&ROW())="",INDIRECT("ListsTUM!O"&($M$3-(INDIRECT("E"&ROW())))),HLOOKUP(INDIRECT("K"&ROW()),GradeAgesTUM,($M$3-(INDIRECT("E"&ROW()))),FALSE)))
A60: =A59+1 -> 49 | H60: =IF(INDIRECT("E"&ROW())="","",IF(INDIRECT("G"&ROW())="",INDIRECT("Lists!O"&($M$3-(INDIRECT("E"&ROW())))),HLOOKUP(INDIRECT("G"&ROW()),GradeAges,($M$3-(INDIRECT("E"&ROW()))),FALSE))) | J60: =IF(INDIRECT("E"&ROW())="","",IF(INDIRECT("I"&ROW())="",INDIRECT("ListsDMT!O"&($M$3-(INDIRECT("E"&ROW())))),HLOOKUP(INDIRECT("I"&ROW()),GradeAgesDMT,($M$3-(INDIRECT("E"&ROW()))),FALSE))) | L60: =IF(INDIRECT("E"&ROW())="","",IF(INDIRECT("K"&ROW())="",INDIRECT("ListsTUM!O"&($M$3-(INDIRECT("E"&ROW())))),HLOOKUP(INDIRECT("K"&ROW()),GradeAgesTUM,($M$3-(INDIRECT("E"&ROW()))),FALSE)))
A61: =A60+1 -> 50 | H61: =IF(INDIRECT("E"&ROW())="","",IF(INDIRECT("G"&ROW())="",INDIRECT("Lists!O"&($M$3-(INDIRECT("E"&ROW())))),HLOOKUP(INDIRECT("G"&ROW()),GradeAges,($M$3-(INDIRECT("E"&ROW()))),FALSE))) | J61: =IF(INDIRECT("E"&ROW())="","",IF(INDIRECT("I"&ROW())="",INDIRECT("ListsDMT!O"&($M$3-(INDIRECT("E"&ROW())))),HLOOKUP(INDIRECT("I"&ROW()),GradeAgesDMT,($M$3-(INDIRECT("E"&ROW()))),FALSE))) | L61: =IF(INDIRECT("E"&ROW())="","",IF(INDIRECT("K"&ROW())="",INDIRECT("ListsTUM!O"&($M$3-(INDIRECT("E"&ROW())))),HLOOKUP(INDIRECT("K"&ROW()),GradeAgesTUM,($M$3-(INDIRECT("E"&ROW()))),FALSE)))
A62: =A61+1 -> 51 | H62: =IF(INDIRECT("E"&ROW())="","",IF(INDIRECT("G"&ROW())="",INDIRECT("Lists!O"&($M$3-(INDIRECT("E"&ROW())))),HLOOKUP(INDIRECT("G"&ROW()),GradeAges,($M$3-(INDIRECT("E"&ROW()))),FALSE))) | J62: =IF(INDIRECT("E"&ROW())="","",IF(INDIRECT("I"&ROW())="",INDIRECT("ListsDMT!O"&($M$3-(INDIRECT("E"&ROW())))),HLOOKUP(INDIRECT("I"&ROW()),GradeAgesDMT,($M$3-(INDIRECT("E"&ROW()))),FALSE))) | L62: =IF(INDIRECT("E"&ROW())="","",IF(INDIRECT("K"&ROW())="",INDIRECT("ListsTUM!O"&($M$3-(INDIRECT("E"&ROW())))),HLOOKUP(INDIRECT("K"&ROW()),GradeAgesTUM,($M$3-(INDIRECT("E"&ROW()))),FALSE)))
A63: =A62+1 -> 52 | H63: =IF(INDIRECT("E"&ROW())="","",IF(INDIRECT("G"&ROW())="",INDIRECT("Lists!O"&($M$3-(INDIRECT("E"&ROW())))),HLOOKUP(INDIRECT("G"&ROW()),GradeAges,($M$3-(INDIRECT("E"&ROW()))),FALSE))) | J63: =IF(INDIRECT("E"&ROW())="","",IF(INDIRECT("I"&ROW())="",INDIRECT("ListsDMT!O"&($M$3-(INDIRECT("E"&ROW())))),HLOOKUP(INDIRECT("I"&ROW()),GradeAgesDMT,($M$3-(INDIRECT("E"&ROW()))),FALSE))) | L63: =IF(INDIRECT("E"&ROW())="","",IF(INDIRECT("K"&ROW())="",INDIRECT("ListsTUM!O"&($M$3-(INDIRECT("E"&ROW())))),HLOOKUP(INDIRECT("K"&ROW()),GradeAgesTUM,($M$3-(INDIRECT("E"&ROW()))),FALSE)))
... A101: =A100+1 -> 90 | H101: =IF(INDIRECT("E"&ROW())="","",IF(INDIRECT("G"&ROW())="",INDIRECT("Lists!O"&($M$3-(INDIRECT("E"&ROW())))),HLOOKUP(INDIRECT("G"&ROW()),GradeAges,($M$3-(INDIRECT("E"&ROW()))),FALSE))) | J101: =IF(INDIRECT("E"&ROW())="","",IF(INDIRECT("I"&ROW())="",INDIRECT("ListsDMT!O"&($M$3-(INDIRECT("E"&ROW())))),HLOOKUP(INDIRECT("I"&ROW()),GradeAgesDMT,($M$3-(INDIRECT("E"&ROW()))),FALSE))) | L101: =IF(INDIRECT("E"&ROW())="","",IF(INDIRECT("K"&ROW())="",INDIRECT("ListsTUM!O"&($M$3-(INDIRECT("E"&ROW())))),HLOOKUP(INDIRECT("K"&ROW()),GradeAgesTUM,($M$3-(INDIRECT("E"&ROW()))),FALSE)))

Sheet Entries SYN
A1: 60 | B1: Help! | C1: multiregion | D1: Regional | L1: =Entries!L1 -> rev 26.1 Nov 2025
A2: USAG Trampoline and Tumbling - Synchro
A3: =IF(C5="",0,1+MATCH(C5,Teams!A2:A65,0)) -> 0 | B3: USATT | C3: Competition Entry Form | M3: =Entries!$M$3 -> 2026
A4: Event | E4: Venue | G4: =Payment!G3 -> 0
A5: Team | E5: Date
A6: Contact | C6: =IF(OR(A3="#N/A", A3=0),"",INDIRECT("Teams!"&"D"&TEXT(A3,"0"))) | E6: USAG Team # | G6: =IF(OR(A3="#N/A", A3=0),"",INDIRECT("Teams!"&"E"&TEXT(A3,"0")))
A7: Address | C7: =IF(OR(A3="#N/A", A3=0),"",INDIRECT("Teams!"&"B"&TEXT(A3,"0"))) | E7: Telephone No. | G7: =IF(OR(A3="#N/A", A3=0),"",INDIRECT("Teams!"&"F"&TEXT(A3,"0")))
E8: E-Mail Address | G8: =IF(OR(A3="#N/A", A3=0),"",INDIRECT("Teams!"&"G"&TEXT(A3,"0")))
A9: Zip Code | C9: =IF(OR(A3="#N/A", A3=0),"",INDIRECT("Teams!"&"C"&TEXT(A3,"0"))) | E9: State | G9: =IF(OR(A3="#N/A", A3=0),"",INDIRECT("Teams!"&"H"&TEXT(A3,"0")))
G10: TRAMPOLINE | I10: DMT | K10: TUMBLING
A11: # | B11: USAG # | C11: First Gymnast | D11: Second Gymnast | E11: Birth Year | F11: M/F/X | G11: Level | H11: Age | I11: Level | J11: Age | K11: Level | L11: Age | M11: Payment | R11: Notes
A12: 1 | H12: =IF(INDIRECT("E"&ROW())="","",IF(INDIRECT("G"&ROW())="",INDIRECT("ListsSYN!O"&($M$3-(INDIRECT("E"&ROW())))),HLOOKUP(INDIRECT("G"&ROW()),GradeAgesSyn,($M$3-(INDIRECT("E"&ROW()))),FALSE)))
A13: 2 | H13: =IF(INDIRECT("E"&ROW())="","",IF(INDIRECT("G"&ROW())="",INDIRECT("ListsSYN!O"&($M$3-(INDIRECT("E"&ROW())))),HLOOKUP(INDIRECT("G"&ROW()),GradeAgesSyn,($M$3-(INDIRECT("E"&ROW()))),FALSE)))
A14: 3 | H14: =IF(INDIRECT("E"&ROW())="","",IF(INDIRECT("G"&ROW())="",INDIRECT("ListsSYN!O"&($M$3-(INDIRECT("E"&ROW())))),HLOOKUP(INDIRECT("G"&ROW()),GradeAgesSyn,($M$3-(INDIRECT("E"&ROW()))),FALSE)))
A15: 4 | H15: =IF(INDIRECT("E"&ROW())="","",IF(INDIRECT("G"&ROW())="",INDIRECT("ListsSYN!O"&($M$3-(INDIRECT("E"&ROW())))),HLOOKUP(INDIRECT("G"&ROW()),GradeAgesSyn,($M$3-(INDIRECT("E"&ROW()))),FALSE)))
A16: 5 | H16: =IF(INDIRECT("E"&ROW())="","",IF(INDIRECT("G"&ROW())="",INDIRECT("ListsSYN!O"&($M$3-(INDIRECT("E"&ROW())))),HLOOKUP(INDIRECT("G"&ROW()),GradeAgesSyn,($M$3-(INDIRECT("E"&ROW()))),FALSE)))
A17: 6 | H17: =IF(INDIRECT("E"&ROW())="","",IF(INDIRECT("G"&ROW())="",INDIRECT("ListsSYN!O"&($M$3-(INDIRECT("E"&ROW())))),HLOOKUP(INDIRECT("G"&ROW()),GradeAgesSyn,($M$3-(INDIRECT("E"&ROW()))),FALSE)))
A18: 7 | H18: =IF(INDIRECT("E"&ROW())="","",IF(INDIRECT("G"&ROW())="",INDIRECT("ListsSYN!O"&($M$3-(INDIRECT("E"&ROW())))),HLOOKUP(INDIRECT("G"&ROW()),GradeAgesSyn,($M$3-(INDIRECT("E"&ROW()))),FALSE)))
A19: 8 | H19: =IF(INDIRECT("E"&ROW())="","",IF(INDIRECT("G"&ROW())="",INDIRECT("ListsSYN!O"&($M$3-(INDIRECT("E"&ROW())))),HLOOKUP(INDIRECT("G"&ROW()),GradeAgesSyn,($M$3-(INDIRECT("E"&ROW()))),FALSE)))
A20: 9 | H20: =IF(INDIRECT("E"&ROW())="","",IF(INDIRECT("G"&ROW())="",INDIRECT("ListsSYN!O"&($M$3-(INDIRECT("E"&ROW())))),HLOOKUP(INDIRECT("G"&ROW()),GradeAgesSyn,($M$3-(INDIRECT("E"&ROW()))),FALSE)))
A21: 10 | H21: =IF(INDIRECT("E"&ROW())="","",IF(INDIRECT("G"&ROW())="",INDIRECT("ListsSYN!O"&($M$3-(INDIRECT("E"&ROW())))),HLOOKUP(INDIRECT("G"&ROW()),GradeAgesSyn,($M$3-(INDIRECT("E"&ROW()))),FALSE)))
A22: 11 | H22: =IF(INDIRECT("E"&ROW())="","",IF(INDIRECT("G"&ROW())="",INDIRECT("ListsSYN!O"&($M$3-(INDIRECT("E"&ROW())))),HLOOKUP(INDIRECT("G"&ROW()),GradeAgesSyn,($M$3-(INDIRECT("E"&ROW()))),FALSE)))
A23: 12 | H23: =IF(INDIRECT("E"&ROW())="","",IF(INDIRECT("G"&ROW())="",INDIRECT("ListsSYN!O"&($M$3-(INDIRECT("E"&ROW())))),HLOOKUP(INDIRECT("G"&ROW()),GradeAgesSyn,($M$3-(INDIRECT("E"&ROW()))),FALSE)))
... A51: 40 | H51: =IF(INDIRECT("E"&ROW())="","",IF(INDIRECT("G"&ROW())="",INDIRECT("ListsSYN!O"&($M$3-(INDIRECT("E"&ROW())))),HLOOKUP(INDIRECT("G"&ROW()),GradeAgesSyn,($M$3-(INDIRECT("E"&ROW()))),FALSE)))
A52: =A51+1 -> 41 | H52: =IF(INDIRECT("E"&ROW())="","",IF(INDIRECT("G"&ROW())="",INDIRECT("ListsSYN!O"&($M$3-(INDIRECT("E"&ROW())))),HLOOKUP(INDIRECT("G"&ROW()),GradeAgesSyn,($M$3-(INDIRECT("E"&ROW()))),FALSE)))
A53: =A52+1 -> 42 | H53: =IF(INDIRECT("E"&ROW())="","",IF(INDIRECT("G"&ROW())="",INDIRECT("ListsSYN!O"&($M$3-(INDIRECT("E"&ROW())))),HLOOKUP(INDIRECT("G"&ROW()),GradeAgesSyn,($M$3-(INDIRECT("E"&ROW()))),FALSE)))
A54: =A53+1 -> 43 | H54: =IF(INDIRECT("E"&ROW())="","",IF(INDIRECT("G"&ROW())="",INDIRECT("ListsSYN!O"&($M$3-(INDIRECT("E"&ROW())))),HLOOKUP(INDIRECT("G"&ROW()),GradeAgesSyn,($M$3-(INDIRECT("E"&ROW()))),FALSE)))
A55: =A54+1 -> 44 | H55: =IF(INDIRECT("E"&ROW())="","",IF(INDIRECT("G"&ROW())="",INDIRECT("ListsSYN!O"&($M$3-(INDIRECT("E"&ROW())))),HLOOKUP(INDIRECT("G"&ROW()),GradeAgesSyn,($M$3-(INDIRECT("E"&ROW()))),FALSE)))
A56: =A55+1 -> 45 | H56: =IF(INDIRECT("E"&ROW())="","",IF(INDIRECT("G"&ROW())="",INDIRECT("ListsSYN!O"&($M$3-(INDIRECT("E"&ROW())))),HLOOKUP(INDIRECT("G"&ROW()),GradeAgesSyn,($M$3-(INDIRECT("E"&ROW()))),FALSE)))
A57: =A56+1 -> 46 | H57: =IF(INDIRECT("E"&ROW())="","",IF(INDIRECT("G"&ROW())="",INDIRECT("ListsSYN!O"&($M$3-(INDIRECT("E"&ROW())))),HLOOKUP(INDIRECT("G"&ROW()),GradeAgesSyn,($M$3-(INDIRECT("E"&ROW()))),FALSE)))
A58: =A57+1 -> 47 | H58: =IF(INDIRECT("E"&ROW())="","",IF(INDIRECT("G"&ROW())="",INDIRECT("ListsSYN!O"&($M$3-(INDIRECT("E"&ROW())))),HLOOKUP(INDIRECT("G"&ROW()),GradeAgesSyn,($M$3-(INDIRECT("E"&ROW()))),FALSE)))
A59: =A58+1 -> 48 | H59: =IF(INDIRECT("E"&ROW())="","",IF(INDIRECT("G"&ROW())="",INDIRECT("ListsSYN!O"&($M$3-(INDIRECT("E"&ROW())))),HLOOKUP(INDIRECT("G"&ROW()),GradeAgesSyn,($M$3-(INDIRECT("E"&ROW()))),FALSE)))
A60: =A59+1 -> 49 | H60: =IF(INDIRECT("E"&ROW())="","",IF(INDIRECT("G"&ROW())="",INDIRECT("ListsSYN!O"&($M$3-(INDIRECT("E"&ROW())))),HLOOKUP(INDIRECT("G"&ROW()),GradeAgesSyn,($M$3-(INDIRECT("E"&ROW()))),FALSE)))
A61: =A60+1 -> 50 | H61: =IF(INDIRECT("E"&ROW())="","",IF(INDIRECT("G"&ROW())="",INDIRECT("ListsSYN!O"&($M$3-(INDIRECT("E"&ROW())))),HLOOKUP(INDIRECT("G"&ROW()),GradeAgesSyn,($M$3-(INDIRECT("E"&ROW()))),FALSE)))
A62: =A61+1 -> 51 | H62: =IF(INDIRECT("E"&ROW())="","",IF(INDIRECT("G"&ROW())="",INDIRECT("ListsSYN!O"&($M$3-(INDIRECT("E"&ROW())))),HLOOKUP(INDIRECT("G"&ROW()),GradeAgesSyn,($M$3-(INDIRECT("E"&ROW()))),FALSE)))
A63: =A62+1 -> 52 | H63: =IF(INDIRECT("E"&ROW())="","",IF(INDIRECT("G"&ROW())="",INDIRECT("ListsSYN!O"&($M$3-(INDIRECT("E"&ROW())))),HLOOKUP(INDIRECT("G"&ROW()),GradeAgesSyn,($M$3-(INDIRECT("E"&ROW()))),FALSE)))
... A101: =A100+1 -> 90 | H101: =IF(INDIRECT("E"&ROW())="","",IF(INDIRECT("G"&ROW())="",INDIRECT("ListsSYN!O"&($M$3-(INDIRECT("E"&ROW())))),HLOOKUP(INDIRECT("G"&ROW()),GradeAgesSyn,($M$3-(INDIRECT("E"&ROW()))),FALSE)))

Sheet Payment
A3: =Entries!A4 -> Event | E3: =Entries!E4 -> Venue
A4: =Entries!A5 -> Team | B4: =IF(Entries!C5="","",Entries!C5) | E4: =Entries!E5 -> Date
A6: Total Number of Entrants : | C6: =90-COUNTBLANK(Entries!C12:C101) -> 0 | D6: at | E6: 90 | F6: = | G6: =E6*C6 -> 0
A8: PLEASE MAKE CHECKS PAYABLE TO
A9: ALL ENTRIES ARE $75.00 PER INDIVIDUAL – THERE IS NO ADDITIONAL CHARGE FOR TEAMS
A10: Email this form to:
A18: To be eligible to compete in this event the competitors must meet the following requirements.
A20: Each Competitor Must :
A22: 1. Have a current USAG membership.
A24: 2. Have met mobility requirements for their level

Sheet Instructions
B1: How to use the Competition Entry Form
A2: Event Organiser:
A3: 1 | B3: Fill in the event location and date on the 'Entries' worksheet
A4: 2 | B4: Fill in the mailing address on the 'Payment' worksheet
A5: 3 | B5: Email the form to all clubs
A7: IMPORTANT! You should use Excel to complete the form - Open Office may not work correctly! Please let the organiser know if you have used Open Office, so that any errors can be corrected.
A9: Competition Secretary at each club:
A10: 1 | B10: In the Entries worksheet, click on the ‘Club’ and pick the name from the list
A11: 2 | B11: All the other club related fields should be filled in automatically (see below for how to change or add missing info)
A12: 3 | B12: Enter the names of the competitors, DoB ( as dd/mm/yyyy), gender (M or F) and grade (NDP1, NDP2, CLB1 etc).
A13: 4 | B13: If the competitor is in a team, pick 'A' in the team column. If you have more than one team in the same class, use B, C etc.
A14: 5 | B14: Fill in any judges / officials names
A15: 6 | B15: Pick the judge qualification level from the list
A16: 7 | B16: Pick the official’s job from the list
A17: 8 | B17: If they cannot do a full day, pick morning/afternoon and put the second official’s name in.
A18: 9 | B18: Email the completed form back to the organiser
A19: 10 | B19: Print off a hard copy of sheet 1 (Entries) and sheet 2 (Payment) to send to the organiser
A20: 11 | B20: The correct payment should already be calculated – just sign the bottom of the sheet and post it off with your cheque. (If you use a standard size 'window' envelope, you won't even have to write the address on it!)
B21: This version of the form is much more resilient to 'pasting' errors. If you just paste into the name, DoB and grade fields you should be ok.
B22: To change club details, please go to the 'Clubs' worksheet and update the information there
A24: Event Organiser:
A25: 1 | B25: When you receive each entry, check it and then save a copy in a folder for all of the entries
A26: 2 | B26: Run the "Tscore" program (email chris@chrisedwards.me.uk if you do not have a copy!)
A27: 3 | B27: If you have previously created a competition, click 'Change' to choose the competition database. The program will default to the last competition you worked on.
A28: 4 | B28: Pick 'New Competition' and fill in the name, venue, date and a unique name for the database. This will create the T-Score competition database for you. If you want to change it later, use Change Competition Details
A29: 5 | B29: Select the folder containing the entry forms and click 'Process Entries' to read the files. This will load the entries directly into the competition database. If there are already entries in the database, you will be asked whether you want to replace them. If you do choose to replace them, then ALL existing entries will be removed from the competition database. (This is so you can simply keep reprocessing the entry forms until you are happy with them) Once processed, the list will show you how many entries were found in each file. Double-click an entry form file to view and edit it. When you have finished this stage, an initial programme and list of required trophies is produced.
A30: 6 | B30: Click 'Timetable' to create, edit and save the timetable The graphical timetable editor lets you see when each class is run You can drag and drop each class to fit, or enter start times and panels directly When you save the timetable, a printable copy is created in the timetable Excel file Simply click on the 'Show Timetable' button to see this file
A31: 7 | B31: Once all of your competitors are entered, you should click on 'Edit Competition' so you can set the start order. The Competitor List screen is shown. From here, you can view all of the entrants directly from the competition database To set the Random Start Order, just click on the Randomise button. You should only do this BEFORE you have produced your final programme with bounce orders in! From this screen, you can make other changes to the competitors much more simply than through SWESCORE To find a competitor, just start typing their name, club or pick their class in the 'Find' panel. Then click on the entrant in the list to view their current details. To change their name, club or class, just alter the value in the 'Competitor Details' panel and click 'Change' You will be asked to confirm the change. Note that if a competitor changes classes after the bounce order has been set, their start value will be set so that they bounce last. To withdraw a competitor, click on 'Withdraw' and to reinstate a previously withdrawn competitor, click 'Reinstate. You will be asked to confirm the change in each case. Note that it is not possible to change a competitor's class or to withdraw them once they have a score recorded against them. To add a new competitor, enter their Name, Club and Class in the Competitor Details panel and click 'Add'. To remove a competitor, highlight their name in the list and click 'Remove'. Note that the scores and start order cannot be changed!
A32: 8 | B32: Click 'Create Checklists' to create the competition checklists. If you have late entrants, you can either (a) put them into the LateEntries Excel file, (b) add them to the existing entry form and reprocess with the 'merge' option (risky if you have manually made changes) or (c) add them directly through Edit Database. The next time you create the lists, the late entries will be added directly to database at the end of their class. The program will check for duplicates, so you don't need to remove them from the LateEntries file once they have been processed.
A33: 9 | B33: Note that all of the files created by the program will appear in a folder called 'CompDocs' below the entries folder. These are all in Excel format, so you can edit them directly before printing if you wish.
B35: If you get stuck with any aspect of this form, please email me on: chris@chrisedwards.me.uk

Sheet Teams
A1: Team | B1: Address | C1: Zip Code | D1: Contact | E1: USAG | F1: Tel | G1: Email | H1: State

Sheet Lists
A1: 1 | B1: 2 | C1: 3 | D1: 4 | E1: 5 | F1: 6 | G1: 7 | H1: 8 | I1: 9 | J1: 10 | K1: Open | L1: Yth | M1: Jnr | N1: Int | O1: Snr | P1: HUGS1 | Q1: HUGS2 | R1: HUGS3 | S1: HUGS4 | T1: Age Group | U1: Age at this year's birthday
A2: - | B2: - | C2: - | D2: - | E2: - | F2: - | G2: - | H2: - | I2: - | J2: - | K2: - | L2: - | M2: - | N2: - | O2: - | P2: - | Q2: - | R2: - | S2: - | T2: 6-U | U2: 2
A3: - | B3: - | C3: - | D3: - | E3: - | F3: - | G3: - | H3: - | I3: - | J3: - | K3: - | L3: - | M3: - | N3: - | O3: - | P3: - | Q3: - | R3: - | S3: - | T3: 6-U | U3: 3
A4: - | B4: - | C4: - | D4: - | E4: - | F4: - | G4: - | H4: - | I4: - | J4: - | K4: - | L4: - | M4: - | N4: - | O4: - | P4: - | Q4: - | R4: - | S4: - | T4: 6-U | U4: 4 | W4: Teams | X4: Jobs
A5: 6-U | B5: 6-U | C5: 6-U | D5: 6-U | E5: 8-U | F5: 8-U | G5: 8-U | H5: 8-U | I5: 8-U | J5: 10-U | K5: - | L5: - | M5: - | N5: - | O5: - | P5: 6-U | Q5: 6-U | R5: 6-U | S5: 6-U | T5: 6-U | U5: 5 | W5: A | X5: Marshall W
A6: 6-U | B6: 6-U | C6: 6-U | D6: 6-U | E6: 8-U | F6: 8-U | G6: 8-U | H6: 8-U | I6: 8-U | J6: 10-U | K6: - | L6: - | M6: - | N6: - | O6: - | P6: 6-U | Q6: 6-U | R6: 6-U | S6: 6-U | T6: 6-U | U6: 6 | W6: B | X6: Marshall C
A7: 7-8 | B7: 7-8 | C7: 7-8 | D7: 7-8 | E7: 8-U | F7: 8-U | G7: 8-U | H7: 8-U | I7: 8-U | J7: 10-U | K7: - | L7: - | M7: - | N7: - | O7: - | P7: 7-8 | Q7: 7-8 | R7: 7-8 | S7: 7-8 | T7: 7-8 | U7: 7 | W7: C | X7: Recorder C
A8: 7-8 | B8: 7-8 | C8: 7-8 | D8: 7-8 | E8: 8-U | F8: 8-U | G8: 8-U | H8: 8-U | I8: 8-U | J8: 10-U | K8: - | L8: - | M8: - | N8: - | O8: - | P8: 7-8 | Q8: 7-8 | R8: 7-8 | S8: 7-8 | T8: 7-8 | U8: 8 | W8: D | X8: Recorder M
A9: 9-10 | B9: 9-10 | C9: 9-10 | D9: 9-10 | E9: 9-10 | F9: 9-10 | G9: 9-10 | H9: 9-10 | I9: 9-10 | J9: 10-U | K9: - | L9: - | M9: - | N9: - | O9: - | P9: 9-10 | Q9: 9-10 | R9: 9-10 | S9: 9-10 | T9: 9-10 | U9: 9 | W9: E | X9: Judge (Class3)
A10: 9-10 | B10: 9-10 | C10: 9-10 | D10: 9-10 | E10: 9-10 | F10: 9-10 | G10: 9-10 | H10: 9-10 | I10: 9-10 | J10: 10-U | K10: - | L10: - | M10: - | N10: - | O10: - | P10: 9-10 | Q10: 9-10 | R10: 9-10 | S10: 9-10 | T10: 9-10 | U10: 10 | W10: F | X10: Judge (Class2)
A11: 11-12 | B11: 11-12 | C11: 11-12 | D11: 11-12 | E11: 11-12 | F11: 11-12 | G11: 11-12 | H11: 11-12 | I11: 11-12 | J11: 11-12 | K11: - | L11: 11-12 | M11: - | N11: - | O11: - | P11: 11-12 | Q11: 11-12 | R11: 11-12 | S11: 11-12 | T11: 11-12 | U11: 11 | W11: G | X11: Judge (Class1)
A12: 11-12 | B12: 11-12 | C12: 11-12 | D12: 11-12 | E12: 11-12 | F12: 11-12 | G12: 11-12 | H12: 11-12 | I12: 11-12 | J12: 11-12 | K12: - | L12: 11-12 | M12: - | N12: - | O12: - | P12: 11-12 | Q12: 11-12 | R12: 11-12 | S12: 11-12 | T12: 11-12 | U12: 12 | W12: H | X12: Judge (Chair)
A13: 13-14 | B13: 13-14 | C13: 13-14 | D13: 13-14 | E13: 13-14 | F13: 13-14 | G13: 13-14 | H13: 13-14 | I13: 13-14 | J13: 13-14 | K13: - | L13: 13-14 | M13: - | N13: - | O13: - | P13: 13-14 | Q13: 13-14 | R13: 13-14 | S13: 13-14 | T13: 13-14 | U13: 13 | W13: Gender
A14: 13-14 | B14: 13-14 | C14: 13-14 | D14: 13-14 | E14: 13-14 | F14: 13-14 | G14: 13-14 | H14: 13-14 | I14: 13-14 | J14: 13-14 | K14: - | L14: 13-14 | M14: - | N14: - | O14: - | P14: 13-14 | Q14: 13-14 | R14: 13-14 | S14: 13-14 | T14: 13-14 | U14: 14 | W14: F
A15: 15-O | B15: 15-O | C15: 15-O | D15: 15-O | E15: 15-O | F15: 15-O | G15: 15-O | H15: 15-O | I15: 15-O | J15: 15-16 | K15: - | L15: - | M15: 15-16 | N15: - | O15: - | P15: 15-O | Q15: 15-O | R15: 15-O | S15: 15-O | T15: 15-16 | U15: 15 | W15: M
A16: 15-O | B16: 15-O | C16: 15-O | D16: 15-O | E16: 15-O | F16: 15-O | G16: 15-O | H16: 15-O | I16: 15-O | J16: 15-16 | K16: - | L16: - | M16: 15-16 | N16: - | O16: - | P16: 15-O | Q16: 15-O | R16: 15-O | S16: 15-O | T16: 15-16 | U16: 16 | W16: X | X16: IT / Admin
A17: 15-O | B17: 15-O | C17: 15-O | D17: 15-O | E17: 15-O | F17: 15-O | G17: 15-O | H17: 15-O | I17: 15-O | J17: 17-O | K17: - | L17: - | M17: - | N17: 17-21 | O17: 17-O | P17: 15-O | Q17: 15-O | R17: 15-O | S17: 15-O | T17: 17-O | U17: 17
A18: 15-O | B18: 15-O | C18: 15-O | D18: 15-O | E18: 15-O | F18: 15-O | G18: 15-O | H18: 15-O | I18: 15-O | J18: 17-O | K18: - | L18: - | M18: - | N18: 17-21 | O18: 17-O | P18: 15-O | Q18: 15-O | R18: 15-O | S18: 15-O | T18: 17-O | U18: 18
A19: 15-O | B19: 15-O | C19: 15-O | D19: 15-O | E19: 15-O | F19: 15-O | G19: 15-O | H19: 15-O | I19: 15-O | J19: 17-O | K19: - | L19: - | M19: - | N19: 17-21 | O19: 17-O | P19: 15-O | Q19: 15-O | R19: 15-O | S19: 15-O | T19: 17-O | U19: 19 | W19: When | X19: Judge
A20: 15-O | B20: 15-O | C20: 15-O | D20: 15-O | E20: 15-O | F20: 15-O | G20: 15-O | H20: 15-O | I20: 15-O | J20: 17-O | K20: - | L20: - | M20: - | N20: 17-21 | O20: 17-O | P20: 15-O | Q20: 15-O | R20: 15-O | S20: 15-O | T20: 17-O | U20: 20 | W20: All Day | X20: Class 3
A21: 15-O | B21: 15-O | C21: 15-O | D21: 15-O | E21: 15-O | F21: 15-O | G21: 15-O | H21: 15-O | I21: 15-O | J21: 17-O | K21: - | L21: - | M21: - | N21: 17-21 | O21: 17-O | P21: 15-O | Q21: 15-O | R21: 15-O | S21: 15-O | T21: 17-O | U21: 21 | W21: Morning | X21: Class 2
A22: 15-O | B22: 15-O | C22: 15-O | D22: 15-O | E22: 15-O | F22: 15-O | G22: 15-O | H22: 15-O | I22: 15-O | J22: 17-O | K22: 22-O | L22: - | M22: - | N22: - | O22: 17-O | P22: 15-O | Q22: 15-O | R22: 15-O | S22: 15-O | T22: 17-O | U22: 22 | W22: Afternoon | X22: Class 1
A23: 15-O | B23: 15-O | C23: 15-O | D23: 15-O | E23: 15-O | F23: 15-O | G23: 15-O | H23: 15-O | I23: 15-O | J23: 17-O | K23: 22-O | L23: - | M23: - | N23: - | O23: 17-O | P23: 15-O | Q23: 15-O | R23: 15-O | S23: 15-O | T23: 17-O | U23: 23 | X23: Chair
A24: 15-O | B24: 15-O | C24: 15-O | D24: 15-O | E24: 15-O | F24: 15-O | G24: 15-O | H24: 15-O | I24: 15-O | J24: 17-O | K24: 22-O | L24: - | M24: - | N24: - | O24: 17-O | P24: 15-O | Q24: 15-O | R24: 15-O | S24: 15-O | T24: 17-O | U24: 24 | W24: Half
A25: 15-O | B25: 15-O | C25: 15-O | D25: 15-O | E25: 15-O | F25: 15-O | G25: 15-O | H25: 15-O | I25: 15-O | J25: 17-O | K25: 22-O | L25: - | M25: - | N25: - | O25: 17-O | P25: 15-O | Q25: 15-O | R25: 15-O | S25: 15-O | T25: 17-O | U25: 25 | W25: Afternoon
A26: 15-O | B26: 15-O | C26: 15-O | D26: 15-O | E26: 15-O | F26: 15-O | G26: 15-O | H26: 15-O | I26: 15-O | J26: 17-O | K26: 22-O | L26: - | M26: - | N26: - | O26: 17-O | P26: 15-O | Q26: 15-O | R26: 15-O | S26: 15-O | T26: 17-O | U26: 26 | W26: Morning
A27: 15-O | B27: 15-O | C27: 15-O | D27: 15-O | E27: 15-O | F27: 15-O | G27: 15-O | H27: 15-O | I27: 15-O | J27: 17-O | K27: 22-O | L27: - | M27: - | N27: - | O27: 17-O | P27: 15-O | Q27: 15-O | R27: 15-O | S27: 15-O | T27: 17-O | U27: 27 | X27: IT / Admin
A28: 15-O | B28: 15-O | C28: 15-O | D28: 15-O | E28: 15-O | F28: 15-O | G28: 15-O | H28: 15-O | I28: 15-O | J28: 17-O | K28: 22-O | L28: - | M28: - | N28: - | O28: 17-O | P28: 15-O | Q28: 15-O | R28: 15-O | S28: 15-O | T28: 17-O | U28: 28
A29: 15-O | B29: 15-O | C29: 15-O | D29: 15-O | E29: 15-O | F29: 15-O | G29: 15-O | H29: 15-O | I29: 15-O | J29: 17-O | K29: 22-O | L29: - | M29: - | N29: - | O29: 17-O | P29: 15-O | Q29: 15-O | R29: 15-O | S29: 15-O | T29: 17-O | U29: 29
A30: 15-O | B30: 15-O | C30: 15-O | D30: 15-O | E30: 15-O | F30: 15-O | G30: 15-O | H30: 15-O | I30: 15-O | J30: 17-O | K30: 22-O | L30: - | M30: - | N30: - | O30: 17-O | P30: 15-O | Q30: 15-O | R30: 15-O | S30: 15-O | T30: 17-O | U30: 30
A31: 15-O | B31: 15-O | C31: 15-O | D31: 15-O | E31: 15-O | F31: 15-O | G31: 15-O | H31: 15-O | I31: 15-O | J31: 17-O | K31: 22-O | L31: - | M31: - | N31: - | O31: 17-O | P31: 15-O | Q31: 15-O | R31: 15-O | S31: 15-O | T31: 17-O | U31: 31
A32: 15-O | B32: 15-O | C32: 15-O | D32: 15-O | E32: 15-O | F32: 15-O | G32: 15-O | H32: 15-O | I32: 15-O | J32: 17-O | K32: 22-O | L32: - | M32: - | N32: - | O32: 17-O | P32: 15-O | Q32: 15-O | R32: 15-O | S32: 15-O | T32: 17-O | U32: 32
A33: 15-O | B33: 15-O | C33: 15-O | D33: 15-O | E33: 15-O | F33: 15-O | G33: 15-O | H33: 15-O | I33: 15-O | J33: 17-O | K33: 22-O | L33: - | M33: - | N33: - | O33: 17-O | P33: 15-O | Q33: 15-O | R33: 15-O | S33: 15-O | T33: 17-O | U33: 33
A34: 15-O | B34: 15-O | C34: 15-O | D34: 15-O | E34: 15-O | F34: 15-O | G34: 15-O | H34: 15-O | I34: 15-O | J34: 17-O | K34: 22-O | L34: - | M34: - | N34: - | O34: 17-O | P34: 15-O | Q34: 15-O | R34: 15-O | S34: 15-O | T34: 17-O | U34: 34
A35: 15-O | B35: 15-O | C35: 15-O | D35: 15-O | E35: 15-O | F35: 15-O | G35: 15-O | H35: 15-O | I35: 15-O | J35: 17-O | K35: 22-O | L35: - | M35: - | N35: - | O35: 17-O | P35: 15-O | Q35: 15-O | R35: 15-O | S35: 15-O | T35: 17-O | U35: 35
A36: 15-O | B36: 15-O | C36: 15-O | D36: 15-O | E36: 15-O | F36: 15-O | G36: 15-O | H36: 15-O | I36: 15-O | J36: 17-O | K36: 22-O | L36: - | M36: - | N36: - | O36: 17-O | P36: 15-O | Q36: 15-O | R36: 15-O | S36: 15-O | T36: 17-O | U36: 36
A37: 15-O | B37: 15-O | C37: 15-O | D37: 15-O | E37: 15-O | F37: 15-O | G37: 15-O | H37: 15-O | I37: 15-O | J37: 17-O | K37: 22-O | L37: - | M37: - | N37: - | O37: 17-O | P37: 15-O | Q37: 15-O | R37: 15-O | S37: 15-O | T37: 17-O | U37: 37
A38: 15-O | B38: 15-O | C38: 15-O | D38: 15-O | E38: 15-O | F38: 15-O | G38: 15-O | H38: 15-O | I38: 15-O | J38: 17-O | K38: 22-O | L38: - | M38: - | N38: - | O38: 17-O | P38: 15-O | Q38: 15-O | R38: 15-O | S38: 15-O | T38: 17-O | U38: 38
A39: 15-O | B39: 15-O | C39: 15-O | D39: 15-O | E39: 15-O | F39: 15-O | G39: 15-O | H39: 15-O | I39: 15-O | J39: 17-O | K39: 22-O | L39: - | M39: - | N39: - | O39: 17-O | P39: 15-O | Q39: 15-O | R39: 15-O | S39: 15-O | T39: 17-O | U39: 39
... A70: 15-O | B70: 15-O | C70: 15-O | D70: 15-O | E70: 15-O | F70: 15-O | G70: 15-O | H70: 15-O | I70: 15-O | J70: 17-O | K70: 22-O | L70: - | M70: - | N70: - | O70: 17-O | P70: 15-O | Q70: 15-O | R70: 15-O | S70: 15-O | T70: 17-O | U70: 70

Sheet ListsDMT
A1: 1 | B1: 2 | C1: 3 | D1: 4 | E1: 5 | F1: 6 | G1: 7 | H1: 8 | I1: 9 | J1: 10 | K1: Open | L1: Yth | M1: Jnr | N1: Int | O1: Snr | P1: HUGS1 | Q1: HUGS2 | R1: HUGS3 | S1: HUGS4 | T1: Age Group | U1: Age at this year's birthday
A2: - | B2: - | C2: - | D2: - | E2: - | F2: - | G2: - | H2: - | I2: - | J2: - | K2: - | L2: - | M2: - | N2: - | O2: - | P2: - | Q2: - | R2: - | S2: - | T2: 6-U | U2: 2
A3: - | B3: - | C3: - | D3: - | E3: - | F3: - | G3: - | H3: - | I3: - | J3: - | K3: - | L3: - | M3: - | N3: - | O3: - | P3: - | Q3: - | R3: - | S3: - | T3: 6-U | U3: 3
A4: - | B4: - | C4: - | D4: - | E4: - | F4: - | G4: - | H4: - | I4: - | J4: - | K4: - | L4: - | M4: - | N4: - | O4: - | P4: - | Q4: - | R4: - | S4: - | T4: 6-U | U4: 4
A5: 6-U | B5: 6-U | C5: 6-U | D5: 6-U | E5: 8-U | F5: 8-U | G5: 8-U | H5: 8-U | I5: 8-U | J5: 10-U | K5: - | L5: - | M5: - | N5: - | O5: - | P5: 6-U | Q5: 6-U | R5: 6-U | S5: 6-U | T5: 6-U | U5: 5
A6: 6-U | B6: 6-U | C6: 6-U | D6: 6-U | E6: 8-U | F6: 8-U | G6: 8-U | H6: 8-U | I6: 8-U | J6: 10-U | K6: - | L6: - | M6: - | N6: - | O6: - | P6: 6-U | Q6: 6-U | R6: 6-U | S6: 6-U | T6: 6-U | U6: 6
A7: 7-8 | B7: 7-8 | C7: 7-8 | D7: 7-8 | E7: 8-U | F7: 8-U | G7: 8-U | H7: 8-U | I7: 8-U | J7: 10-U | K7: - | L7: - | M7: - | N7: - | O7: - | P7: 7-8 | Q7: 7-8 | R7: 7-8 | S7: 7-8 | T7: 7-8 | U7: 7
A8: 7-8 | B8: 7-8 | C8: 7-8 | D8: 7-8 | E8: 8-U | F8: 8-U | G8: 8-U | H8: 8-U | I8: 8-U | J8: 10-U | K8: - | L8: - | M8: - | N8: - | O8: - | P8: 7-8 | Q8: 7-8 | R8: 7-8 | S8: 7-8 | T8: 7-8 | U8: 8
A9: 9-10 | B9: 9-10 | C9: 9-10 | D9: 9-10 | E9: 9-10 | F9: 9-10 | G9: 9-10 | H9: 9-10 | I9: 9-10 | J9: 10-U | K9: - | L9: - | M9: - | N9: - | O9: - | P9: 9-10 | Q9: 9-10 | R9: 9-10 | S9: 9-10 | T9: 9-10 | U9: 9
A10: 9-10 | B10: 9-10 | C10: 9-10 | D10: 9-10 | E10: 9-10 | F10: 9-10 | G10: 9-10 | H10: 9-10 | I10: 9-10 | J10: 10-U | K10: - | L10: - | M10: - | N10: - | O10: - | P10: 9-10 | Q10: 9-10 | R10: 9-10 | S10: 9-10 | T10: 9-10 | U10: 10
A11: 11-12 | B11: 11-12 | C11: 11-12 | D11: 11-12 | E11: 11-12 | F11: 11-12 | G11: 11-12 | H11: 11-12 | I11: 11-12 | J11: 11-12 | K11: - | L11: 11-12 | M11: - | N11: - | O11: - | P11: 11-12 | Q11: 11-12 | R11: 11-12 | S11: 11-12 | T11: 11-12 | U11: 11
A12: 11-12 | B12: 11-12 | C12: 11-12 | D12: 11-12 | E12: 11-12 | F12: 11-12 | G12: 11-12 | H12: 11-12 | I12: 11-12 | J12: 11-12 | K12: - | L12: 11-12 | M12: - | N12: - | O12: - | P12: 11-12 | Q12: 11-12 | R12: 11-12 | S12: 11-12 | T12: 11-12 | U12: 12
A13: 13-14 | B13: 13-14 | C13: 13-14 | D13: 13-14 | E13: 13-14 | F13: 13-14 | G13: 13-14 | H13: 13-14 | I13: 13-14 | J13: 13-14 | K13: - | L13: 13-14 | M13: - | N13: - | O13: - | P13: 13-14 | Q13: 13-14 | R13: 13-14 | S13: 13-14 | T13: 13-14 | U13: 13
... A70: 15-O | B70: 15-O | C70: 15-O | D70: 15-O | E70: 15-O | F70: 15-O | G70: 15-O | H70: 15-O | I70: 15-O | J70: 17-O | K70: 22-O | L70: - | M70: - | N70: - | O70: 17-O | P70: 15-O | Q70: 15-O | R70: 15-O | S70: 15-O | T70: 17-O | U70: 70

Sheet ListsTUM
A1: 1 | B1: 2 | C1: 3 | D1: 4 | E1: 5 | F1: 6 | G1: 7 | H1: 8 | I1: 9 | J1: 10 | K1: Open | L1: Yth | M1: Jnr | N1: Int | O1: Snr | P1: HUGS1 | Q1: HUGS2 | R1: HUGS3 | S1: HUGS4 | T1: Age Group | U1: Age at this year's birthday
A2: - | B2: - | C2: - | D2: - | E2: - | F2: - | G2: - | H2: - | I2: - | J2: - | K2: - | L2: - | M2: - | N2: - | O2: - | P2: - | Q2: - | R2: - | S2: - | T2: 6-U | U2: 2
A3: - | B3: - | C3: - | D3: - | E3: - | F3: - | G3: - | H3: - | I3: - | J3: - | K3: - | L3: - | M3: - | N3: - | O3: - | P3: - | Q3: - | R3: - | S3: - | T3: 6-U | U3: 3
A4: - | B4: - | C4: - | D4: - | E4: - | F4: - | G4: - | H4: - | I4: - | J4: - | K4: - | L4: - | M4: - | N4: - | O4: - | P4: - | Q4: - | R4: - | S4: - | T4: 6-U | U4: 4
A5: 6-U | B5: 6-U | C5: 6-U | D5: 6-U | E5: 8-U | F5: 8-U | G5: 8-U | H5: 8-U | I5: 8-U | J5: 10-U | K5: - | L5: - | M5: - | N5: - | O5: - | P5: 6-U | Q5: 6-U | R5: 6-U | S5: 6-U | T5: 6-U | U5: 5
A6: 6-U | B6: 6-U | C6: 6-U | D6: 6-U | E6: 8-U | F6: 8-U | G6: 8-U | H6: 8-U | I6: 8-U | J6: 10-U | K6: - | L6: - | M6: - | N6: - | O6: - | P6: 6-U | Q6: 6-U | R6: 6-U | S6: 6-U | T6: 6-U | U6: 6
A7: 7-8 | B7: 7-8 | C7: 7-8 | D7: 7-8 | E7: 8-U | F7: 8-U | G7: 8-U | H7: 8-U | I7: 8-U | J7: 10-U | K7: - | L7: - | M7: - | N7: - | O7: - | P7: 7-8 | Q7: 7-8 | R7: 7-8 | S7: 7-8 | T7: 7-8 | U7: 7
A8: 7-8 | B8: 7-8 | C8: 7-8 | D8: 7-8 | E8: 8-U | F8: 8-U | G8: 8-U | H8: 8-U | I8: 8-U | J8: 10-U | K8: - | L8: - | M8: - | N8: - | O8: - | P8: 7-8 | Q8: 7-8 | R8: 7-8 | S8: 7-8 | T8: 7-8 | U8: 8
A9: 9-10 | B9: 9-10 | C9: 9-10 | D9: 9-10 | E9: 9-10 | F9: 9-10 | G9: 9-10 | H9: 9-10 | I9: 9-10 | J9: 10-U | K9: - | L9: - | M9: - | N9: - | O9: - | P9: 9-10 | Q9: 9-10 | R9: 9-10 | S9: 9-10 | T9: 9-10 | U9: 9
A10: 9-10 | B10: 9-10 | C10: 9-10 | D10: 9-10 | E10: 9-10 | F10: 9-10 | G10: 9-10 | H10: 9-10 | I10: 9-10 | J10: 10-U | K10: - | L10: - | M10: - | N10: - | O10: - | P10: 9-10 | Q10: 9-10 | R10: 9-10 | S10: 9-10 | T10: 9-10 | U10: 10
A11: 11-12 | B11: 11-12 | C11: 11-12 | D11: 11-12 | E11: 11-12 | F11: 11-12 | G11: 11-12 | H11: 11-12 | I11: 11-12 | J11: 11-12 | K11: - | L11: 11-12 | M11: - | N11: - | O11: - | P11: 11-12 | Q11: 11-12 | R11: 11-12 | S11: 11-12 | T11: 11-12 | U11: 11
A12: 11-12 | B12: 11-12 | C12: 11-12 | D12: 11-12 | E12: 11-12 | F12: 11-12 | G12: 11-12 | H12: 11-12 | I12: 11-12 | J12: 11-12 | K12: - | L12: 11-12 | M12: - | N12: - | O12: - | P12: 11-12 | Q12: 11-12 | R12: 11-12 | S12: 11-12 | T12: 11-12 | U12: 12
A13: 13-14 | B13: 13-14 | C13: 13-14 | D13: 13-14 | E13: 13-14 | F13: 13-14 | G13: 13-14 | H13: 13-14 | I13: 13-14 | J13: 13-14 | K13: - | L13: 13-14 | M13: - | N13: - | O13: - | P13: 13-14 | Q13: 13-14 | R13: 13-14 | S13: 13-14 | T13: 13-14 | U13: 13
... A70: 15-O | B70: 15-O | C70: 15-O | D70: 15-O | E70: 15-O | F70: 15-O | G70: 15-O | H70: 15-O | I70: 15-O | J70: - | K70: 22-O | L70: - | M70: - | N70: - | O70: 17-O | P70: 15-O | Q70: 15-O | R70: 15-O | S70: 15-O | T70: 17-O | U70: 70

Sheet ListsSYN
A1: 1 | B1: 2 | C1: 3 | D1: 4 | E1: 5 | F1: 6 | G1: 7 | H1: 8 | I1: 9 | J1: 10 | K1: Open | L1: Yth | M1: Jnr | N1: Int | O1: Snr | P1: Age Group | Q1: Age at this year's birthday
A2: - | B2: - | C2: - | D2: - | E2: - | F2: - | G2: - | H2: - | I2: - | J2: - | K2: - | L2: - | M2: - | N2: - | O2: - | P2: 6-U | Q2: 2
A3: - | B3: - | C3: - | D3: - | E3: - | F3: - | G3: - | H3: - | I3: - | J3: - | K3: - | L3: - | M3: - | N3: - | O3: - | P3: 6-U | Q3: 3
A4: - | B4: - | C4: - | D4: - | E4: - | F4: - | G4: - | H4: - | I4: - | J4: - | K4: - | L4: - | M4: - | N4: - | O4: - | P4: 6-U | Q4: 4 | S4: Teams | T4: Jobs
A5: 6-U | B5: 6-U | C5: 6-U | D5: 6-U | E5: 8-U | F5: 8-U | G5: 8-U | H5: 10-U | I5: 12-U | J5: 14-U | K5: - | L5: - | M5: - | N5: - | O5: - | P5: 6-U | Q5: 5 | S5: A | T5: Marshall W
A6: 6-U | B6: 6-U | C6: 6-U | D6: 6-U | E6: 8-U | F6: 8-U | G6: 8-U | H6: 10-U | I6: 12-U | J6: 14-U | K6: - | L6: - | M6: - | N6: - | O6: - | P6: 6-U | Q6: 6 | S6: B | T6: Marshall C
A7: 7-8 | B7: 7-8 | C7: 7-8 | D7: 7-8 | E7: 8-U | F7: 8-U | G7: 8-U | H7: 10-U | I7: 12-U | J7: 14-U | K7: - | L7: - | M7: - | N7: - | O7: - | P7: 7-8 | Q7: 7 | S7: C | T7: Recorder C
A8: 7-8 | B8: 7-8 | C8: 7-8 | D8: 7-8 | E8: 8-U | F8: 8-U | G8: 8-U | H8: 10-U | I8: 12-U | J8: 14-U | K8: - | L8: - | M8: - | N8: - | O8: - | P8: 7-8 | Q8: 8 | S8: D | T8: Recorder M
A9: 9-10 | B9: 9-10 | C9: 9-10 | D9: 9-10 | E9: 9-10 | F9: 9-10 | G9: 9-10 | H9: 10-U | I9: 12-U | J9: 14-U | K9: - | L9: - | M9: - | N9: - | O9: - | P9: 9-10 | Q9: 9 | S9: E | T9: Judge (Class3)
A10: 9-10 | B10: 9-10 | C10: 9-10 | D10: 9-10 | E10: 9-10 | F10: 9-10 | G10: 9-10 | H10: 10-U | I10: 12-U | J10: 14-U | K10: - | M10: - | N10: - | O10: - | P10: 9-10 | Q10: 10 | S10: F | T10: Judge (Class2)
A11: 11-O | B11: 11-O | C11: 11-O | D11: 11-12 | E11: 11-12 | F11: 11-12 | G11: 11-12 | H11: 11-12 | I11: 12-U | J11: 14-U | K11: - | L11: 11-12 | M11: - | N11: - | O11: - | P11: 11-12 | Q11: 11 | S11: G | T11: Judge (Class1)
A12: 11-O | B12: 11-O | C12: 11-O | D12: 11-12 | E12: 11-12 | F12: 11-12 | G12: 11-12 | H12: 11-12 | I12: 12-U | J12: 14-U | K12: - | L12: 11-12 | M12: - | N12: - | O12: - | P12: 11-12 | Q12: 12 | S12: H | T12: Judge (Chair)
A13: 11-O | B13: 11-O | C13: 11-O | D13: 13-14 | E13: 13-14 | F13: 13-14 | G13: 13-14 | H13: 13-14 | I13: 13-O | J13: 14-U | K13: - | L13: 13-14 | M13: - | N13: - | O13: - | P13: 13-14 | Q13: 13 | S13: Gender
A14: 11-O | B14: 11-O | C14: 11-O | D14: 13-14 | E14: 13-14 | F14: 13-14 | G14: 13-14 | H14: 13-14 | I14: 13-O | J14: 14-U | K14: - | L14: 13-14 | M14: - | N14: - | O14: - | P14: 13-14 | Q14: 14 | S14: F
A15: 11-O | B15: 11-O | C15: 11-O | D15: 15-O | E15: 15-O | F15: 15-O | G15: 15-O | H15: 15-O | I15: 13-O | J15: 15-16 | K15: - | L15: - | M15: 15-16 | N15: - | O15: - | P15: 15-16 | Q15: 15 | S15: M
A16: 11-O | B16: 11-O | C16: 11-O | D16: 15-O | E16: 15-O | F16: 15-O | G16: 15-O | H16: 15-O | I16: 13-O | J16: 15-16 | K16: - | L16: - | M16: 15-16 | N16: - | O16: - | P16: 15-16 | Q16: 16 | S16: X | T16: IT / Admin
A17: 11-O | B17: 11-O | C17: 11-O | D17: 15-O | E17: 15-O | F17: 15-O | G17: 15-O | H17: 15-O | I17: 13-O | J17: 17-O | K17: - | L17: - | M17: - | N17: 17-21 | O17: 17-O | P17: 17-O | Q17: 17
A18: 11-O | B18: 11-O | C18: 11-O | D18: 15-O | E18: 15-O | F18: 15-O | G18: 15-O | H18: 15-O | I18: 13-O | J18: 17-O | K18: - | L18: - | M18: - | N18: 17-21 | O18: 17-O | P18: 17-O | Q18: 18
A19: 11-O | B19: 11-O | C19: 11-O | D19: 15-O | E19: 15-O | F19: 15-O | G19: 15-O | H19: 15-O | I19: 13-O | J19: 17-O | K19: - | L19: - | M19: - | N19: 17-21 | O19: 17-O | P19: 17-O | Q19: 19 | S19: When | T19: Judge
A20: 11-O | B20: 11-O | C20: 11-O | D20: 15-O | E20: 15-O | F20: 15-O | G20: 15-O | H20: 15-O | I20: 13-O | J20: 17-O | K20: - | L20: - | M20: - | N20: 17-21 | O20: 17-O | P20: 17-O | Q20: 20 | S20: All Day | T20: Class 3
A21: 11-O | B21: 11-O | C21: 11-O | D21: 15-O | E21: 15-O | F21: 15-O | G21: 15-O | H21: 15-O | I21: 13-O | J21: 17-O | K21: - | L21: - | M21: - | N21: 17-21 | O21: 17-O | P21: 17-O | Q21: 21 | S21: Morning | T21: Class 2
A22: 11-O | B22: 11-O | C22: 11-O | D22: 15-O | E22: 15-O | F22: 15-O | G22: 15-O | H22: 15-O | I22: 13-O | J22: 17-O | K22: 22-O | L22: - | M22: - | N22: - | O22: 17-O | P22: 17-O | Q22: 22 | S22: Afternoon | T22: Class 1
A23: 11-O | B23: 11-O | C23: 11-O | D23: 15-O | E23: 15-O | F23: 15-O | G23: 15-O | H23: 15-O | I23: 13-O | J23: 17-O | K23: 22-O | L23: - | M23: - | N23: - | O23: 17-O | P23: 17-O | Q23: 23 | T23: Chair
A24: 11-O | B24: 11-O | C24: 11-O | D24: 15-O | E24: 15-O | F24: 15-O | G24: 15-O | H24: 15-O | I24: 13-O | J24: 17-O | K24: 22-O | L24: - | M24: - | N24: - | O24: 17-O | P24: 17-O | Q24: 24 | S24: Half
A25: 11-O | B25: 11-O | C25: 11-O | D25: 15-O | E25: 15-O | F25: 15-O | G25: 15-O | H25: 15-O | I25: 13-O | J25: 17-O | K25: 22-O | L25: - | M25: - | N25: - | O25: 17-O | P25: 17-O | Q25: 25 | S25: Afternoon
A26: 11-O | B26: 11-O | C26: 11-O | D26: 15-O | E26: 15-O | F26: 15-O | G26: 15-O | H26: 15-O | I26: 13-O | J26: 17-O | K26: 22-O | L26: - | M26: - | N26: - | O26: 17-O | P26: 17-O | Q26: 26 | S26: Morning
A27: 11-O | B27: 11-O | C27: 11-O | D27: 15-O | E27: 15-O | F27: 15-O | G27: 15-O | H27: 15-O | I27: 13-O | J27: 17-O | K27: 22-O | L27: - | M27: - | N27: - | O27: 17-O | P27: 17-O | Q27: 27 | T27: IT / Admin
A28: 11-O | B28: 11-O | C28: 11-O | D28: 15-O | E28: 15-O | F28: 15-O | G28: 15-O | H28: 15-O | I28: 13-O | J28: 17-O | K28: 22-O | L28: - | M28: - | N28: - | O28: 17-O | P28: 17-O | Q28: 28
A29: 11-O | B29: 11-O | C29: 11-O | D29: 15-O | E29: 15-O | F29: 15-O | G29: 15-O | H29: 15-O | I29: 13-O | J29: 17-O | K29: 22-O | L29: - | M29: - | N29: - | O29: 17-O | P29: 17-O | Q29: 29
A30: 11-O | B30: 11-O | C30: 11-O | D30: 15-O | E30: 15-O | F30: 15-O | G30: 15-O | H30: 15-O | I30: 13-O | J30: 17-O | K30: 22-O | L30: - | M30: - | N30: - | O30: 17-O | P30: 17-O | Q30: 30
A31: 11-O | B31: 11-O | C31: 11-O | D31: 15-O | E31: 15-O | F31: 15-O | G31: 15-O | H31: 15-O | I31: 13-O | J31: 17-O | K31: 22-O | L31: - | M31: - | N31: - | O31: 17-O | P31: 17-O | Q31: 31
A32: 11-O | B32: 11-O | C32: 11-O | D32: 15-O | E32: 15-O | F32: 15-O | G32: 15-O | H32: 15-O | I32: 13-O | J32: 17-O | K32: 22-O | L32: - | M32: - | N32: - | O32: 17-O | P32: 17-O | Q32: 32
A33: 11-O | B33: 11-O | C33: 11-O | D33: 15-O | E33: 15-O | F33: 15-O | G33: 15-O | H33: 15-O | I33: 13-O | J33: 17-O | K33: 22-O | L33: - | M33: - | N33: - | O33: 17-O | P33: 17-O | Q33: 33
A34: 11-O | B34: 11-O | C34: 11-O | D34: 15-O | E34: 15-O | F34: 15-O | G34: 15-O | H34: 15-O | I34: 13-O | J34: 17-O | K34: 22-O | L34: - | M34: - | N34: - | O34: 17-O | P34: 17-O | Q34: 34
A35: 11-O | B35: 11-O | C35: 11-O | D35: 15-O | E35: 15-O | F35: 15-O | G35: 15-O | H35: 15-O | I35: 13-O | J35: 17-O | K35: 22-O | L35: - | M35: - | N35: - | O35: 17-O | P35: 17-O | Q35: 35
A36: 11-O | B36: 11-O | C36: 11-O | D36: 15-O | E36: 15-O | F36: 15-O | G36: 15-O | H36: 15-O | I36: 13-O | J36: 17-O | K36: 22-O | L36: - | M36: - | N36: - | O36: 17-O | P36: 17-O | Q36: 36
A37: 11-O | B37: 11-O | C37: 11-O | D37: 15-O | E37: 15-O | F37: 15-O | G37: 15-O | H37: 15-O | I37: 13-O | J37: 17-O | K37: 22-O | L37: - | M37: - | N37: - | O37: 17-O | P37: 17-O | Q37: 37
A38: 11-O | B38: 11-O | C38: 11-O | D38: 15-O | E38: 15-O | F38: 15-O | G38: 15-O | H38: 15-O | I38: 13-O | J38: 17-O | K38: 22-O | L38: - | M38: - | N38: - | O38: 17-O | P38: 17-O | Q38: 38
A39: 11-O | B39: 11-O | C39: 11-O | D39: 15-O | E39: 15-O | F39: 15-O | G39: 15-O | H39: 15-O | I39: 13-O | J39: 17-O | K39: 22-O | L39: - | M39: - | N39: - | O39: 17-O | P39: 17-O | Q39: 39
... A70: 11-O | B70: 11-O | C70: 11-O | D70: 15-O | E70: 15-O | F70: 15-O | G70: 15-O | H70: 15-O | I70: 13-O | J70: 17-O | K70: 22-O | L70: - | M70: - | N70: - | O70: 17-O | P70: 17-O | Q70: 70
